BEGIN:VCALENDAR
VERSION:2.0
PRODID:-//ChamberMaster//Event Calendar 2.0//EN
METHOD:PUBLISH
X-PUBLISHED-TTL:P3D
REFRESH-INTERVAL:P3D
CALSCALE:GREGORIAN
BEGIN:VEVENT
DTSTART:20200314T000000Z
DTEND:20200314T013000Z
X-MICROSOFT-CDO-ALLDAYEVENT:FALSE
SUMMARY:Latin Dance Class For Couples With Esther Gutierriz-Sloan and Walt Sloan
DESCRIPTION:This class is designed for couples but singles are welcome. You will learn footwork\, how to lead and how to be led\, as well as easy to follow turns. We will touch on merengue\, salsa\, and cha cha rhythms.
X-ALT-DESC;FMTTYPE=text/html:This class is designed for couples but singles are welcome. You will learn footwork\, how to lead and how to be led\, as well as easy to follow turns. We will touch on merengue\, salsa\, and cha cha rhythms.
LOCATION:Gorton Community Center
UID:e.1126.18765
SEQUENCE:3
DTSTAMP:20260420T120232Z
URL:https://business.lflbchamber.com/events/details/latin-dance-class-for-couples-with-esther-gutierriz-sloan-and-walt-sloan-18765
END:VEVENT

END:VCALENDAR
