BEGIN:VCALENDAR
VERSION:2.0
PRODID:-//ChamberMaster//Event Calendar 2.0//EN
METHOD:PUBLISH
X-PUBLISHED-TTL:P3D
REFRESH-INTERVAL:P3D
CALSCALE:GREGORIAN
BEGIN:VEVENT
DTSTART:20250630T173000Z
DTEND:20250630T190000Z
X-MICROSOFT-CDO-ALLDAYEVENT:FALSE
SUMMARY:Learn About AI For NonProfits And Fundraising On LinkedIn
DESCRIPTION:Discover how nonprofits can use AI and LinkedIn to streamline tasks\, boost outreach and uncover better fundraising opportunities.
X-ALT-DESC;FMTTYPE=text/html:<!--StartFragment--><span data-olk-copy-source="MessageBody" style="margin: 0px\;">Discover how nonprofits can use AI and LinkedIn to streamline tasks\, boost outreach and uncover better fundraising opportunities.</span><!--EndFragment-->
LOCATION:Zoom
UID:e.1126.31378
SEQUENCE:3
DTSTAMP:20260424T084013Z
URL:https://business.lflbchamber.com/events/details/learn-about-ai-for-nonprofits-and-fundraising-on-linkedin-31378
END:VEVENT

END:VCALENDAR
