BEGIN:VCALENDAR
VERSION:2.0
PRODID:-//ChamberMaster//Event Calendar 2.0//EN
METHOD:PUBLISH
X-PUBLISHED-TTL:P3D
REFRESH-INTERVAL:P3D
CALSCALE:GREGORIAN
BEGIN:VEVENT
DTSTART:20250513T233000Z
DTEND:20250514T010000Z
X-MICROSOFT-CDO-ALLDAYEVENT:FALSE
SUMMARY:Learn How To Use AI For Marketing\, Branding\, & Sales
DESCRIPTION:Learn to train AI to match your brand voice\, boost sales\, and build authentic marketing that connects without losing the human touch.
X-ALT-DESC;FMTTYPE=text/html:<!--StartFragment--><span data-olk-copy-source="MessageBody" style="margin: 0px\;">Learn to train AI to match your brand voice\, boost sales\, and build authentic marketing that connects without losing the human touch.</span><!--EndFragment-->
LOCATION:Zoom
UID:e.1126.30722
SEQUENCE:3
DTSTAMP:20260424T023418Z
URL:https://business.lflbchamber.com/events/details/learn-how-to-use-ai-for-marketing-branding-sales-30722
END:VEVENT

END:VCALENDAR
