BEGIN:VCALENDAR
VERSION:2.0
PRODID:-//ChamberMaster//Event Calendar 2.0//EN
METHOD:PUBLISH
X-PUBLISHED-TTL:P3D
REFRESH-INTERVAL:P3D
CALSCALE:GREGORIAN
BEGIN:VEVENT
DTSTART:20250205T170000Z
DTEND:20250205T180000Z
X-MICROSOFT-CDO-ALLDAYEVENT:FALSE
SUMMARY:Learn to Maximize Contact Information Using CRM Tools
DESCRIPTION:Boost your business by mastering CRM tools to collect\, organize and leverage contact data for effective marketing and competitive edge.
X-ALT-DESC;FMTTYPE=text/html:<span style="color:#282829\;"><span style="font-family:lato\,sans-serif\;"><span style="font-size:12.0pt\;">Boost your business by mastering CRM tools to collect\, organize and leverage contact data for effective marketing and competitive edge.</span></span></span>
LOCATION:Zoom
UID:e.1126.29665
SEQUENCE:3
DTSTAMP:20260423T221854Z
URL:https://business.lflbchamber.com/events/details/learn-to-maximize-contact-information-using-crm-tools-29665
END:VEVENT

END:VCALENDAR
