BEGIN:VCALENDAR
VERSION:2.0
PRODID:-//ChamberMaster//Event Calendar 2.0//EN
METHOD:PUBLISH
X-PUBLISHED-TTL:P3D
REFRESH-INTERVAL:P3D
CALSCALE:GREGORIAN
BEGIN:VEVENT
DTSTART:20190613T210000Z
DTEND:20190613T220000Z
X-MICROSOFT-CDO-ALLDAYEVENT:FALSE
SUMMARY:LEGO Club
DESCRIPTION:(Grades 1 and up) Come and build the LEGO creation of your dreams! Participate in a different challenge every month\, or free build.\n\nRegistration not required.
X-ALT-DESC;FMTTYPE=text/html:<span style="color:rgb(0\, 0\, 0)\; font-family:arial\,sans-serif\; font-size:14.0085px">(Grades 1 and up) Come and build the LEGO creation of your dreams! Participate in a different challenge every month\, or free build.<br />\nRegistration not required.</span>
LOCATION:Lake Bluff Public Library 123 E. Scranton Ave. Lake Bluff\, IL 60044
UID:e.1126.17934
SEQUENCE:3
DTSTAMP:20260424T071734Z
URL:https://business.lflbchamber.com/events/details/lego-club-06-13-2019-17934
END:VEVENT

END:VCALENDAR
