BEGIN:VCALENDAR
VERSION:2.0
PRODID:-//ChamberMaster//Event Calendar 2.0//EN
METHOD:PUBLISH
X-PUBLISHED-TTL:P3D
REFRESH-INTERVAL:P3D
CALSCALE:GREGORIAN
BEGIN:VEVENT
DTSTART:20190314T210000Z
DTEND:20190314T220000Z
X-MICROSOFT-CDO-ALLDAYEVENT:FALSE
SUMMARY:LEGO Club
DESCRIPTION:Grades 1 and up. Come and build the LEGO creation of your dreams! Participate in a different challenge every month\, or free build.
X-ALT-DESC;FMTTYPE=text/html:Grades 1 and up. Come and build the LEGO creation of your dreams! Participate in a different challenge every month\, or free build.
LOCATION:Lake Bluff Library 123 E Scranton Ave.\, Lake Bluff\, IL 60044
UID:e.1126.17619
SEQUENCE:3
DTSTAMP:20260424T113613Z
URL:https://business.lflbchamber.com/events/details/lego-club-17619
END:VEVENT

END:VCALENDAR
