BEGIN:VCALENDAR
VERSION:2.0
PRODID:-//ChamberMaster//Event Calendar 2.0//EN
METHOD:PUBLISH
X-PUBLISHED-TTL:P3D
REFRESH-INTERVAL:P3D
CALSCALE:GREGORIAN
BEGIN:VEVENT
DTSTART:20260416T210000Z
DTEND:20260416T220000Z
X-MICROSOFT-CDO-ALLDAYEVENT:FALSE
SUMMARY:Lemonade Stand Challenge
DESCRIPTION:Register and join us in person to open a pretend lemonade stand and learn about saving\, spending\, and budgeting in this entertaining and educational Money Smart Week program. Lemonade and cookies will be served.
X-ALT-DESC;FMTTYPE=text/html:<span style="font-family:gotham\,sans-serif\; font-size:14px">Register and join us in person to open a pretend lemonade stand and learn about saving\, spending\, and budgeting in this entertaining and educational Money Smart Week program. Lemonade and cookies will be served.</span>
LOCATION:Lake Forest Library 360 E Deerpath Rd Lake Forest IL 60045
UID:e.1126.33884
SEQUENCE:3
DTSTAMP:20260425T220610Z
URL:https://business.lflbchamber.com/events/details/lemonade-stand-challenge-33884
END:VEVENT

END:VCALENDAR
