BEGIN:VCALENDAR
VERSION:2.0
PRODID:-//ChamberMaster//Event Calendar 2.0//EN
METHOD:PUBLISH
X-PUBLISHED-TTL:P3D
REFRESH-INTERVAL:P3D
CALSCALE:GREGORIAN
BEGIN:VEVENT
DTSTART:20250612T210000Z
DTEND:20250612T230000Z
X-MICROSOFT-CDO-ALLDAYEVENT:FALSE
SUMMARY:LGBeadTQ
DESCRIPTION:Drop in and get crafty! Design a bracelet that celebrates your identity or make one as a heartfelt gift for someone you love   just in time for Pride Month.\n\nThis program is for all ages. Children under the age of 8 must have an adult with them during the event.
X-ALT-DESC;FMTTYPE=text/html:<p>Drop in and get crafty! Design a bracelet that celebrates your identity or make one as a heartfelt gift for someone you love &mdash\; just in time for Pride Month.</p>\n\n<p><strong>This program is for all ages</strong>.&nbsp\;<strong>Children under the age of 8 must have an adult with them during the event.</strong></p>\n
LOCATION:Lake Bluff Public Library 123 E. Scranton Ave. Lake Bluff\, IL. 60044
UID:e.1126.30993
SEQUENCE:3
DTSTAMP:20260424T080618Z
URL:https://business.lflbchamber.com/events/details/lgbeadtq-30993
END:VEVENT

END:VCALENDAR
