BEGIN:VCALENDAR
VERSION:2.0
PRODID:-//ChamberMaster//Event Calendar 2.0//EN
METHOD:PUBLISH
X-PUBLISHED-TTL:P3D
REFRESH-INTERVAL:P3D
CALSCALE:GREGORIAN
BEGIN:VEVENT
DTSTART:20250603T223000Z
DTEND:20250604T000000Z
X-MICROSOFT-CDO-ALLDAYEVENT:FALSE
SUMMARY:Lightways Hospice CEU Event
DESCRIPTION:Join Lightways Hospice and Serious Illness Care and special guest speaker\, Dr. Martha Twaddle\, to explore the myths and misconceptions about dying and how it will impact fostering open conversations\, understanding the process of dying\, and supporting individuals and families facing end-of-life care.
X-ALT-DESC;FMTTYPE=text/html:Join Lightways Hospice and Serious Illness Care and special guest speaker\, Dr. Martha Twaddle\, to explore the myths and misconceptions about dying and how it will impact fostering open conversations\, understanding the process of dying\, and supporting individuals and families facing end-of-life care.
LOCATION:Brushwood Center at Ryerson Woods 21850 N. Riverwoods\, Riverwoods\, IL 60015
UID:e.1126.30824
SEQUENCE:3
DTSTAMP:20260424T080643Z
URL:https://business.lflbchamber.com/events/details/lightways-hospice-ceu-event-30824
END:VEVENT

END:VCALENDAR
