BEGIN:VCALENDAR
VERSION:2.0
PRODID:-//ChamberMaster//Event Calendar 2.0//EN
METHOD:PUBLISH
X-PUBLISHED-TTL:P3D
REFRESH-INTERVAL:P3D
CALSCALE:GREGORIAN
BEGIN:VEVENT
DTSTART:20190308T163000Z
DTEND:20190308T183000Z
X-MICROSOFT-CDO-ALLDAYEVENT:FALSE
SUMMARY:LINKEDIN – Building the Profile
DESCRIPTION:Presented by: Ernie Katko\, U-Connect\, Inc.\, Social Media Consultant and LinkedIn Trainer\n\nLinkedIn is an essential tool in today's job market. It is used not only by job seekers but by recruiters and employers seeking candidates for positions as well. Learning how to begin creating and using your LinkedIn profile can be daunting. This session will focus on how to make LinkedIn a friendlier social media platform and show you the important elements of building your profile. Bring your laptop or tablet and work as you go.\n\nErnie Katko is a social media consultant and LinkedIn trainer with U-Connect\, Inc.  He works with individuals and businesses to develop an overall social media strategy to effectively promote products\, services\, companies or YOU.\n\nRegistration is required to attend.  Please call 847-295-5626.
X-ALT-DESC;FMTTYPE=text/html:Presented by:&nbsp\;<span style="font-family:tahoma\,sans-serif"><span style="font-size:12.0pt">Ernie Katko\, U-Connect\, Inc.\, Social Media Consultant and LinkedIn Trainer</span><br />\nLinkedIn is an essential tool in today&rsquo\;s job market. It is used not only by job seekers but by recruiters and employers seeking candidates for positions as well. Learning how to begin creating and using your LinkedIn profile can be daunting. This session will focus on how to make LinkedIn a friendlier social media platform and show you the important elements of building your profile. Bring your laptop or tablet and work as you go.</span><br />\n<span style="font-family:tahoma\,sans-serif">Ernie Katko is a social media consultant and LinkedIn trainer with U-Connect\, Inc. &nbsp\;He&nbsp\;works with individuals and businesses to develop an overall social media strategy to effectively promote products\, services\, companies or YOU.</span><br />\n<strong><span style="font-family:tahoma\,sans-serif">Registration is required to attend.&nbsp\; Please call 847-295-5626.</span></strong><br />\n&nbsp\;
LOCATION:Career Resource Center Grove Cultural Campus 40 E. Old Mill Road Lake Forest\, IL 60045
UID:e.1126.17605
SEQUENCE:3
DTSTAMP:20260424T113729Z
URL:https://business.lflbchamber.com/events/details/linkedin-building-the-profile-03-08-2019-17605
END:VEVENT

END:VCALENDAR
