BEGIN:VCALENDAR
VERSION:2.0
PRODID:-//ChamberMaster//Event Calendar 2.0//EN
METHOD:PUBLISH
X-PUBLISHED-TTL:P3D
REFRESH-INTERVAL:P3D
CALSCALE:GREGORIAN
BEGIN:VEVENT
DTSTART:20190411T183000Z
DTEND:20190411T200000Z
X-MICROSOFT-CDO-ALLDAYEVENT:FALSE
SUMMARY:LINKEDIN – IT’S ONLY AS GOOD AS YOU MAKE IT
DESCRIPTION:Presented by: Dee Reinhardt\, Social Media Strategist\n\nYou have a LinkedIn profile\, hundreds of connections\, belong to groups but you feel you are not using LinkedIn to its fullest potential.  How is it doing you any good?  Find out what you should be doing on a regular basis to get the most value out of your profile.  Attendees will receive Dee's Top 5 profile tips along with a LinkedIn takeaway.\n\nThis session is NOT for beginning users\, experienced LinkedIn users will benefit the most from this session.\n\nBring your laptop to work on your profile during this session.\n\nDee Reinhardt is the creative heart and soul of Time2Mrkt. She is a social media strategist with a marketing and community relations background. Her passion is teaching and coaching people on how to use social media tools to their advantage. She helps small business and solopreneurs plan\, create\, implement\, and train or maintain their social media platforms. She holds a BS in Speech Communications from Southern Illinois University.\n\nRegistration is required to attend.  Please call 847-295-5626.
X-ALT-DESC;FMTTYPE=text/html:Presented by:&nbsp\;<span style="font-family:tahoma\,sans-serif"><span style="font-size:12.0pt">Dee Reinhardt\, Social Media Strategist</span></span><br />\nYou have a LinkedIn profile\, hundreds of connections\, belong to groups but you feel you are not using LinkedIn to its fullest potential.&nbsp\; How is it doing you any good?&nbsp\; Find out what you should be doing on a regular basis to get the most value out of your profile.&nbsp\; Attendees will receive Dee&#39\;s Top 5 profile tips along with a LinkedIn takeaway.<br />\nThis session is NOT for beginning users\, experienced LinkedIn users will benefit the most from this session.<br />\nBring your laptop to work on your profile during this session.<br />\nDee Reinhardt is the creative heart and soul of Time2Mrkt. She is a social media strategist with a marketing and community relations background. Her passion is teaching and coaching people on how to use social media tools to their advantage. She helps small business and solopreneurs plan\, create\, implement\, and train or maintain their social media platforms. She holds a BS in Speech Communications from Southern Illinois University.<br />\n<strong>Registration is required to attend.&nbsp\; Please call 847-295-5626.</strong><br />\n&nbsp\;
LOCATION:Career Resource Center\, Inc. Grove Cultural Campus 40 E. Old Mill Road\, Suite 105 Lake Forest\, Illinois 60045
UID:e.1126.17662
SEQUENCE:3
DTSTAMP:20260424T084800Z
URL:https://business.lflbchamber.com/events/details/linkedin-it-s-only-as-good-as-you-make-it-04-11-2019-17662
END:VEVENT

END:VCALENDAR
