BEGIN:VCALENDAR
VERSION:2.0
PRODID:-//ChamberMaster//Event Calendar 2.0//EN
METHOD:PUBLISH
X-PUBLISHED-TTL:P3D
REFRESH-INTERVAL:P3D
CALSCALE:GREGORIAN
BEGIN:VEVENT
DTSTART:20190517T153000Z
DTEND:20190517T173000Z
X-MICROSOFT-CDO-ALLDAYEVENT:FALSE
SUMMARY:LINKEDIN – Steps Beyond the Profile
DESCRIPTION:Presented by: Ernie Katko\, U-Connect\, Inc.\, Social Media Consultant and LinkedIn Trainer\n\nYou?ve created your dynamic LinkedIn profile but now what? Learn what else LinkedIn has to offer from finding connections to building your network and personal brand. In this interactive workshop\, you?ll also discover steps to elevate the visibility of your profile and get noticed by the employers and recruiters who use LinkedIn. Bring your laptop or tablet and work as you go!\n\nErnie Katko is a social media consultant and LinkedIn trainer with U-Connect\, Inc.  He works with individuals and businesses to develop an overall social media strategy to effectively promote products\, services\, companies or YOU. \n\nRegistration is required to attend.  Please call 847-295-5626.
X-ALT-DESC;FMTTYPE=text/html:Presented by:&nbsp\;<span style="font-family:tahoma\,sans-serif"><span style="font-size:12.0pt">Ernie Katko\, U-Connect\, Inc.\, Social Media Consultant and LinkedIn Trainer</span><br>\nYou?ve created your dynamic LinkedIn profile but now what? Learn what else LinkedIn has to offer from finding connections to building your network and personal brand. In this interactive workshop\, you?ll also discover steps to elevate the visibility of your profile and get noticed by the employers and recruiters who use LinkedIn. Bring your laptop or tablet and work as you go!</span><br>\n<span style="font-family:tahoma\,sans-serif">Ernie Katko is a social media consultant and LinkedIn trainer with U-Connect\, Inc. &nbsp\;He&nbsp\;works with individuals and businesses to develop an overall social media strategy to effectively promote products\, services\, companies or YOU. </span><br>\n<strong><span style="font-family:tahoma\,sans-serif">Registration is required to attend.&nbsp\; Please call 847-295-5626.</span></strong><br>\n&nbsp\;
LOCATION:Career Resource Center Grove Cultural Campus 40 E. Old Mill Road Lake Forest\, IL 60045
UID:e.1126.17831
SEQUENCE:3
DTSTAMP:20260424T071259Z
URL:https://business.lflbchamber.com/events/details/linkedin-steps-beyond-the-profile-05-17-2019-17831
END:VEVENT

END:VCALENDAR
