BEGIN:VCALENDAR
VERSION:2.0
PRODID:-//ChamberMaster//Event Calendar 2.0//EN
METHOD:PUBLISH
X-PUBLISHED-TTL:P3D
REFRESH-INTERVAL:P3D
CALSCALE:GREGORIAN
BEGIN:VEVENT
DTSTART:20200824T150000Z
DTEND:20200824T160000Z
X-MICROSOFT-CDO-ALLDAYEVENT:FALSE
SUMMARY:Listening & Speaking: Being with a Person Living with Dementia
DESCRIPTION:During this presentation\, Chris will explain why people with dementia have unique communication needs. She will help identify strategies for communicating and recognizing the impact of your interactions with those with dementia. She will also discuss how to look for meaning in their verbal and non-verbal communications. Please join us for this important topic. Reservations are required. A $5 donation is requested. Please call 847-462-0885 to register or email events@elderwerks.org
X-ALT-DESC;FMTTYPE=text/html:During this presentation\, Chris will explain why people with dementia have unique communication needs. She will help identify strategies for communicating and recognizing the impact of your interactions with those with dementia. She will also discuss how to look for meaning in their verbal and non-verbal communications. Please join us for this important topic. Reservations are required. A $5 donation is requested. Please call 847-462-0885 to register or email events@elderwerks.org
LOCATION:Zoom Webinar
UID:e.1126.19512
SEQUENCE:3
DTSTAMP:20260419T164002Z
URL:https://business.lflbchamber.com/events/details/listening-speaking-being-with-a-person-living-with-dementia-19512
END:VEVENT

END:VCALENDAR
