BEGIN:VCALENDAR
VERSION:2.0
PRODID:-//ChamberMaster//Event Calendar 2.0//EN
METHOD:PUBLISH
X-PUBLISHED-TTL:P3D
REFRESH-INTERVAL:P3D
CALSCALE:GREGORIAN
BEGIN:VEVENT
DTSTART:20220505T160000Z
DTEND:20220505T170000Z
X-MICROSOFT-CDO-ALLDAYEVENT:FALSE
SUMMARY:Live Beyond the Default: Creating Balance & Living a Life of Well-Being
DESCRIPTION:Presented by Dave LoSavio Personal Development Coach\, Realtor   | SRES Join us for this interactive presentation where we: Begin recognizing and eliminating distractions that take us away from our challenges\, focus\, and opportunities. Create space to learn well-being and mindful habits. Learn and embody language patterns that create a lasting change and life balance. Questions? Call: 847-462-0885 Email: Events@Elderwerks.org
X-ALT-DESC;FMTTYPE=text/html:Presented by Dave LoSavio Personal Development Coach\, Realtor &reg\; | SRES Join us for this interactive presentation where we: Begin recognizing and eliminating distractions that take us away from our challenges\, focus\, and opportunities. Create space to learn well-being and mindful habits. Learn and embody language patterns that create a lasting change and life balance. Questions? Call: 847-462-0885 Email: Events@Elderwerks.org
LOCATION:Live Zoom Presentation
UID:e.1126.21880
SEQUENCE:3
DTSTAMP:20260420T075353Z
URL:https://business.lflbchamber.com/events/details/live-beyond-the-default-creating-balance-living-a-life-of-well-being-21880
END:VEVENT

END:VCALENDAR
