BEGIN:VCALENDAR
VERSION:2.0
PRODID:-//ChamberMaster//Event Calendar 2.0//EN
METHOD:PUBLISH
X-PUBLISHED-TTL:P3D
REFRESH-INTERVAL:P3D
CALSCALE:GREGORIAN
BEGIN:VEVENT
DTSTART:20220922T170000Z
DTEND:20220922T180000Z
X-MICROSOFT-CDO-ALLDAYEVENT:FALSE
SUMMARY:Living Well for Life
DESCRIPTION:You are invited to join us for a special appearance by Dr. Darrin Redinger from Illinois Spinal Care for an interesting discussion on how to keep your spine healthy.
X-ALT-DESC;FMTTYPE=text/html:You are invited to join us for a special appearance by Dr. Darrin Redinger from Illinois Spinal Care for an interesting discussion on how to keep your spine healthy.
LOCATION:https://www.regpack.com/reg/templates/build/?g_id=100909958
UID:e.1126.22600
SEQUENCE:3
DTSTAMP:20260426T040752Z
URL:https://business.lflbchamber.com/events/details/living-well-for-life-22600
END:VEVENT

END:VCALENDAR
