BEGIN:VCALENDAR
VERSION:2.0
PRODID:-//ChamberMaster//Event Calendar 2.0//EN
METHOD:PUBLISH
X-PUBLISHED-TTL:P3D
REFRESH-INTERVAL:P3D
CALSCALE:GREGORIAN
BEGIN:VEVENT
DTSTART:20250529T170000Z
DTEND:20250529T183000Z
X-MICROSOFT-CDO-ALLDAYEVENT:FALSE
SUMMARY:Loans\, Grants and Other Funding Options for Women-Owned Businesses
DESCRIPTION:Learn about the funding landscape for women-owned businesses\, including traditional bank loans\, SBA options\, crowdfunding strategies\, grants\, and much more.
X-ALT-DESC;FMTTYPE=text/html:<!--StartFragment--><span data-olk-copy-source="MessageBody" style="margin: 0px\;">Learn about the funding landscape for women-owned businesses\, including traditional bank loans\, SBA options\, crowdfunding strategies\, grants\, and much more.&nbsp\;</span><!--EndFragment-->
LOCATION:Zoom
UID:e.1126.30801
SEQUENCE:3
DTSTAMP:20260424T053520Z
URL:https://business.lflbchamber.com/events/details/loans-grants-and-other-funding-options-for-women-owned-businesses-30801
END:VEVENT

END:VCALENDAR
