BEGIN:VCALENDAR
VERSION:2.0
PRODID:-//ChamberMaster//Event Calendar 2.0//EN
METHOD:PUBLISH
X-PUBLISHED-TTL:P3D
REFRESH-INTERVAL:P3D
CALSCALE:GREGORIAN
BEGIN:VEVENT
DTSTART:20190711T230000Z
DTEND:20190712T000000Z
X-MICROSOFT-CDO-ALLDAYEVENT:FALSE
SUMMARY:Local Author Deborah Rine
DESCRIPTION:Local author\, Deborah Rine joins us at Lake Forest Book Store to celebrate her two newest Emerald Coast Mystery novels.\n\n\n\nTHE GIRL ON 30A: AN EMERALD COAST MYSTERY\n\nCreateSpace  $14.00 Available in Paperback\n\nClaire escapes on Christmas Day. She leaves behind her stifling family\, her controlling fianc  and her grueling job. In Lemon Cove\, a Florida town off Highway 30A\, she finds new friends\, a challenging career and a house on the beach. How lucky can she get? But within days her perfect new life begins to disintegrate. Her date for New Year's Eve is found dead in a gangland shooting. She has the distinct feeling she's being followed. Gripped by fear\, she is suspicious of some around her. Claire is determined to uncover the truth and reclaim the life she's begun to build...no matter what it takes. This fast-paced novel takes place on the exquisite Emerald Coast along Highway 30A in the Florida Panhandle. Part travelogue and part thriller\, THE GIRL ON 30A paints a vibrant portrait of a distinctive region while spinning its intriguing tale.\n\nENVY ON 30A: AN EMERALD COAST MYSTERY\n\nSefl-Published $14.00  Available in Paperback\n\nVictoria Palmer is a social-media queen with millions of followers. Her wedding promises to be the cyber event of the year. The nuptials will take place at the fabulous Magnolia Resort\, a haven for the super-rich on the exquiisite Emerald Coast along Highway 30A in the Florida Panhandle. For Morgan Lytton\, Magnolia's wedding planner\, the four-day extravaganza provokes anxiety. An impending storm off the Gulf of Mexico looms on the horizon. Pernicious paparazzi threaten to infiltrate the event. In addition\, an undercurrent of hatred and jealousy simmers under the feigned camaraderie of the wedding party. Unwittingly\, Morgan becomes enmeshed in their conflicts. After the first murder\, the members of the wedding party begin to suspect one another. Morgan works with the police and finds herself a target for the vindictive killer.\n\nThursday\, July 11\, 2019 at 6:00 pm \n\nat Lake Forest  Book Store\n\nBooks available for purchase and signing\n\nRefreshments will be served\n\nSeating is limited\, call 847-234-4420\n\nDeborah Rine lives in Lake Bluff\, Illinois with her husband\, Larry and her chocolate lab\, Cocoa. She has also written The Lake\, Face Blind\, and Divergent Deaths. The Girl on 30A is her fifth novel and was inspired by a wonderful vacation along the Emerald Coast.
X-ALT-DESC;FMTTYPE=text/html:<div><strong>Local author\, Deborah Rine joins us at Lake Forest Book Store to celebrate her two newest&nbsp\;Emerald Coast Mystery&nbsp\;novels.<br />\n<br />\nTHE GIRL ON 30A: AN EMERALD COAST MYSTERY</strong></div>\n\n<p><strong>CreateSpace&nbsp\; $14.00 Available in Paperback</strong></p>\n\n<p><strong><span style="color:rgb(0\, 0\, 0)\; font-family:open sans\,helvetica\,arial\,sans-serif\; font-size:12px">Claire escapes on Christmas Day. She leaves behind her stifling family\, her controlling fianc&eacute\; and her grueling job. In Lemon Cove\, a Florida town off Highway 30A\, she finds new friends\, a challenging career and a house on the beach. How lucky can she get? But within days her perfect new life begins to disintegrate. Her date for New Year&#39\;s Eve is found dead in a gangland shooting. She has the distinct feeling she&#39\;s being followed. Gripped by fear\, she is suspicious of some around her. Claire is determined to uncover the truth and reclaim the life she&#39\;s begun to build...no matter what it takes. This fast-paced novel takes place on the exquisite Emerald Coast along Highway 30A in the Florida Panhandle. Part travelogue and part thriller\, THE GIRL ON 30A paints a vibrant portrait of a distinctive region while spinning its intriguing tale.</span></strong></p>\n\n<div><strong>ENVY ON 30A: AN EMERALD COAST MYSTERY</strong></div>\n\n<p><strong>Sefl-Published $14.00&nbsp\; Available in Paperback</strong></p>\n\n<p><strong><span style="color:rgb(0\, 0\, 0)\; font-family:open sans\,helvetica\,arial\,sans-serif\; font-size:12px">Victoria Palmer is a social-media queen with millions of followers. Her wedding promises to be the cyber event of the year. The nuptials will take place at the fabulous Magnolia Resort\, a haven for the super-rich on the exquiisite Emerald Coast along Highway 30A in the Florida Panhandle. For Morgan Lytton\, Magnolia&#39\;s wedding planner\, the four-day extravaganza provokes anxiety. An impending storm off the Gulf of Mexico looms on the horizon. Pernicious paparazzi threaten to infiltrate the event. In addition\, an undercurrent of hatred and jealousy simmers under the feigned camaraderie of the wedding party. Unwittingly\, Morgan becomes enmeshed in their conflicts. After the first murder\, the members of the wedding party begin to suspect one another. Morgan works with the police and finds herself a target for the vindictive killer.</span></strong><br />\n<strong style="text-align:center">Thursday\, July 11\, 2019 at 6:00 pm&nbsp\;</strong><br />\n<strong style="text-align:center">at Lake Forest&nbsp\; Book Store</strong><br />\n<strong style="text-align:center">Books available for purchase and signing</strong><br />\n<strong style="text-align:center">Refreshments will be served</strong><br />\n<strong style="text-align:center">Seating is limited\, call 847-234-4420</strong></p>\n\n<p><span style="color:rgb(0\, 0\, 0)\; font-family:open sans\,helvetica\,arial\,sans-serif\; font-size:12px">Deborah Rine lives in Lake Bluff\, Illinois with her husband\, Larry and her chocolate lab\, Cocoa. She has also written<em>&nbsp\;The Lake</em>\,&nbsp\;<em>Face Blind</em>\, and&nbsp\;<em>Divergent Deaths</em>. The Girl on 30A is her fifth novel and was inspired by a wonderful vacation along the Emerald Coast.</span></p>\n
LOCATION:Lake Forest Book Store 662 N. Western Avenue Lake Forest\, IL 60045
UID:e.1126.18052
SEQUENCE:3
DTSTAMP:20260424T043408Z
URL:https://business.lflbchamber.com/events/details/local-author-deborah-rine-18052
END:VEVENT

END:VCALENDAR
