BEGIN:VCALENDAR
VERSION:2.0
PRODID:-//ChamberMaster//Event Calendar 2.0//EN
METHOD:PUBLISH
X-PUBLISHED-TTL:P3D
REFRESH-INTERVAL:P3D
CALSCALE:GREGORIAN
BEGIN:VEVENT
DTSTART:20220907T153000Z
DTEND:20220907T173000Z
X-MICROSOFT-CDO-ALLDAYEVENT:FALSE
SUMMARY:Lukes' Vienna Beef Hotdog Hall of Fame Induction
DESCRIPTION:Join us at Luke's of Lake Bluff Wednesday\, September 7 for their Vienna Beef Hall of Fame Induction! \n\n \n\nLuke's will be offering $1 Hot Dogs as well as Luke's/Vienna Swag Giveaways. \n\n \n\nThis event is complimentary and the community is invited to attend the celebration!
X-ALT-DESC;FMTTYPE=text/html:<strong><span style="color:#050505\;"><span style="font-size:12.0pt\;">Join us at </span></span></strong><span style="color:#444444\;"><span style="font-size:12.0pt\;"><a href="https://www.lukeslakebluff.com" target="_blank"><strong><span style="text-decoration-line:none\;"><span style="color:#050505\;">Luke&#39\;s of Lake Bluff</span></span></strong></a></span></span><strong><span style="color:#050505\;"><span style="font-size:12.0pt\;"> Wednesday\, September 7 for their Vienna Beef Hall of Fame Induction!&nbsp\;</span></span></strong><br />\n&nbsp\;<br />\n<span style="color:#050505\;"><span style="font-size:12.0pt\;">Luke&#39\;s will be offering $1 Hot Dogs as well as Luke&#39\;s/Vienna Swag Giveaways.&nbsp\;</span></span><br />\n&nbsp\;<br />\n<span style="color:#050505\;"><span style="font-family:calibri\,sans-serif\;"><span style="font-size:12.0pt\;">This event is complimentary and the community is invited to attend the celebration!</span></span></span>
LOCATION:203 N. Waukegan Road Lake Bluff\, IL 60044
UID:e.1126.22615
SEQUENCE:3
DTSTAMP:20260426T041101Z
URL:https://business.lflbchamber.com/events/details/lukes-vienna-beef-hotdog-hall-of-fame-induction-22615
END:VEVENT

END:VCALENDAR
