BEGIN:VCALENDAR
VERSION:2.0
PRODID:-//ChamberMaster//Event Calendar 2.0//EN
METHOD:PUBLISH
X-PUBLISHED-TTL:P3D
REFRESH-INTERVAL:P3D
CALSCALE:GREGORIAN
BEGIN:VEVENT
DTSTART:20200716T170000Z
DTEND:20200716T180000Z
X-MICROSOFT-CDO-ALLDAYEVENT:FALSE
SUMMARY:Lunch with the Mayors
DESCRIPTION:Did you miss the Mayor's Luncheon?\n\nView the video HERE!\n\n\n\nWhat's the latest in Lake Forest and Lake Bluff?\n\n \n\nLUNCH WITH THE MAYORS (via Zoom this year!)\n\nThursday\, July 16 | 12 - 1:00 pm\n\n\n\nLake Bluff Village President Kathy O'Hara and Lake Forest Mayor George Pandaleon offer an overview of the latest information about our communities. \n\n \n\nThough we can't enjoy each other's company at the Deer Path Inn this year\, we can certainly pick up food in advance before jumping the Zoom call (here's a link to DPI's carry out menu)\n\n \n\n\n\nComplimentary Event Admission\n\n\n\nThank you to our event sponsors...\n\nBrandstorm\n\nFlotstone\n\nLake Forest Book Store\n\nMelichar Architects
X-ALT-DESC;FMTTYPE=text/html:<div style="text-align: center\;"><strong><em><span style="color:green\;"><span style="font-family:arial\,sans-serif\;"><span style="font-size:18.0pt\;">Did you miss the Mayor&#39\;s Luncheon?<br />\n<a href="https://youtu.be/zWiXSGtgicE">View the video HERE!</a><br />\n<br />\nWhat&#39\;s the latest in Lake Forest and Lake Bluff?</span></span></span></em></strong><br />\n&nbsp\;<br />\n<strong><span style="color:green\;"><span style="font-family:arial\,sans-serif\;"><span style="font-size:16.0pt\;">LUNCH WITH THE MAYORS (via Zoom this year!)<br />\n<span style="font-size:18px\;">Thursday\, July 16&nbsp\;|&nbsp\;12 - 1:00 pm</span></span></span></span></strong><br />\n<br />\n<span style="color:#333333\;"><span style="font-family:arial\,sans-serif\;"><span style="font-size:12.0pt\;"><strong>Lake Bluff Village President Kathy O&#39\;Hara</strong> and <strong>Lake Forest Mayor George Pandaleon</strong>&nbsp\;offer an overview of the latest information about our communities.&nbsp\;</span></span></span><br />\n&nbsp\;<br />\n<span style="color:#333333\;"><span style="font-family:arial\,sans-serif\;"><span style="font-size:12.0pt\;">Though we can&rsquo\;t enjoy each other&rsquo\;s company at the Deer Path Inn this year\, we can certainly pick up food in advance before jumping the Zoom call (here&rsquo\;s a <strong><a href="https://www.thedeerpathinn.com/dining" target="_blank">link to DPI&rsquo\;s carry out menu</a></strong>)</span></span></span><br />\n&nbsp\;<br />\n<br />\n<span style="color: rgb(51\, 51\, 51)\;"><span style="font-family: arial\, sans-serif\; font-weight: bold\; font-size: 12pt\;">Complimentary Event Admission<br />\n<br />\n<em>Thank you to our event sponsors...</em><br />\n<a href="https://www.brandstorm57.com/" target="_blank">Brandstorm</a><br />\n<a href="https://flotstone.com/" target="_blank">Flotstone</a><br />\n<a href="https://www.lakeforestbookstore.com/">Lake Forest Book Store</a><br />\n<a href="https://www.melichararchitects.com/" target="_blank">Melichar Architects</a></span></span><br />\n&nbsp\;</div>\n
LOCATION:Via Zoom
UID:e.1126.19467
SEQUENCE:3
DTSTAMP:20260425T193210Z
URL:https://business.lflbchamber.com/events/details/lunch-with-the-mayors-19467
END:VEVENT

END:VCALENDAR
