BEGIN:VCALENDAR
VERSION:2.0
PRODID:-//ChamberMaster//Event Calendar 2.0//EN
METHOD:PUBLISH
X-PUBLISHED-TTL:P3D
REFRESH-INTERVAL:P3D
CALSCALE:GREGORIAN
BEGIN:VEVENT
DTSTART:20190826T140000Z
DTEND:20190901T020000Z
X-MICROSOFT-CDO-ALLDAYEVENT:FALSE
SUMMARY:Make a Commitment to Yourself!
DESCRIPTION:From August 26th to August 31st\, get 10% off regular class memberships of 6 months or more.\n\nCannot be combined with any other offers. Expires August 31st\, 2019.
X-ALT-DESC;FMTTYPE=text/html:From August 26th to August 31st\, get 10% off regular class memberships of 6 months or more.<br />\nCannot be combined with any other offers. Expires August 31st\, 2019.
LOCATION:860 S. Milwaukee Ave. Libertyville\, IL 60048
UID:e.1126.18209
SEQUENCE:3
DTSTAMP:20260424T042153Z
URL:https://business.lflbchamber.com/events/details/make-a-commitment-to-yourself-18209
END:VEVENT

END:VCALENDAR
