BEGIN:VCALENDAR
VERSION:2.0
PRODID:-//ChamberMaster//Event Calendar 2.0//EN
METHOD:PUBLISH
X-PUBLISHED-TTL:P3D
REFRESH-INTERVAL:P3D
CALSCALE:GREGORIAN
BEGIN:VEVENT
DTSTART:20250626T230000Z
DTEND:20250627T003000Z
X-MICROSOFT-CDO-ALLDAYEVENT:FALSE
SUMMARY:Making Your Website More Accessible
DESCRIPTION:Explore how to set up Google Ads\, boost campaign performance and track results to reach more customers and grow your business.
X-ALT-DESC;FMTTYPE=text/html:<!--StartFragment--><span data-olk-copy-source="MessageBody" style="margin: 0px\;">Explore how to set up Google Ads\, boost campaign performance and track results to reach more customers and grow your business.</span><!--EndFragment-->
LOCATION:Zoom
UID:e.1126.31377
SEQUENCE:3
DTSTAMP:20260424T065027Z
URL:https://business.lflbchamber.com/events/details/making-your-website-more-accessible-31377
END:VEVENT

END:VCALENDAR
