BEGIN:VCALENDAR
VERSION:2.0
PRODID:-//ChamberMaster//Event Calendar 2.0//EN
METHOD:PUBLISH
X-PUBLISHED-TTL:P3D
REFRESH-INTERVAL:P3D
CALSCALE:GREGORIAN
BEGIN:VEVENT
DTSTART:20250619T160000Z
DTEND:20250619T173000Z
X-MICROSOFT-CDO-ALLDAYEVENT:FALSE
SUMMARY:Marketing Basics
DESCRIPTION:Gain tools to craft a goal-driven marketing strategy using digital\, traditional and data-backed tactics to attract and convert customers.
X-ALT-DESC;FMTTYPE=text/html:<!--StartFragment--><span data-olk-copy-source="MessageBody" style="margin: 0px\;">Gain tools to craft a goal-driven marketing strategy using digital\, traditional and data-backed tactics to attract and convert customers.</span><!--EndFragment-->
LOCATION:Zoom
UID:e.1126.31373
SEQUENCE:3
DTSTAMP:20260424T083438Z
URL:https://business.lflbchamber.com/events/details/marketing-basics-31373
END:VEVENT

END:VCALENDAR
