BEGIN:VCALENDAR
VERSION:2.0
PRODID:-//ChamberMaster//Event Calendar 2.0//EN
METHOD:PUBLISH
X-PUBLISHED-TTL:P3D
REFRESH-INTERVAL:P3D
CALSCALE:GREGORIAN
BEGIN:VEVENT
DTSTART:20250528T143000Z
DTEND:20250528T153000Z
X-MICROSOFT-CDO-ALLDAYEVENT:FALSE
SUMMARY:Marketing Strategies for Your Business
DESCRIPTION:Join us for a free webinar\, full of information how to market your business or services! In this session\, you'll learn how to:\n\n \n\n\n	Conduct a competitive comparison to understand your market position\n	Craft compelling product and service descriptions\n	Develop a pricing strategy\n	Identify your ideal target markets to focus your efforts\n	Select the most effective marketing channels to reach your audience\n	Create a marketing message that drives engagement and action\n\n\n \n\nPerfect for entrepreneurs and small business owners\, this session offers actionable insights to build awareness and grow your business. Register today!
X-ALT-DESC;FMTTYPE=text/html:<p data-olk-copy-source="MessageBody" style="margin: 0px\; padding: 0px\; color: rgb(40\, 40\, 41)\; font-family: Lato\, sans-serif\; font-size: 16px\;">Join us for a free webinar\, full of information how to market your business or services! In this session\, you&rsquo\;ll learn how to:</p>\n\n<p style="margin: 0px\; padding: 0px\; color: rgb(40\, 40\, 41)\; font-family: Lato\, sans-serif\; font-size: 16px\;">&nbsp\;</p>\n\n<ul style="padding-right: 0px\; padding-left: 0px\; margin: 0px 0px 0px 40px\; color: rgb(40\, 40\, 41)\; font-family: Lato\, sans-serif\; font-size: 16px\;">\n	<li style="padding: 0px\; margin: 0px\;">Conduct a&nbsp\;<span style="border: 0px\; font-style: inherit\; font-variant: inherit\; font-weight: bold\; font-stretch: inherit\; font-size: inherit\; line-height: inherit\; font-family: inherit\; font-optical-sizing: inherit\; font-size-adjust: inherit\; font-kerning: inherit\; font-feature-settings: inherit\; font-variation-settings: inherit\; margin: 0px\; padding: 0px\; vertical-align: baseline\; color: inherit\;">competitive comparison</span>&nbsp\;to understand your market position</li>\n	<li style="padding: 0px\; margin: 0px\;">Craft compelling&nbsp\;<span style="border: 0px\; font-style: inherit\; font-variant: inherit\; font-weight: bold\; font-stretch: inherit\; font-size: inherit\; line-height: inherit\; font-family: inherit\; font-optical-sizing: inherit\; font-size-adjust: inherit\; font-kerning: inherit\; font-feature-settings: inherit\; font-variation-settings: inherit\; margin: 0px\; padding: 0px\; vertical-align: baseline\; color: inherit\;">product and service descriptions</span></li>\n	<li style="padding: 0px\; margin: 0px\;">Develop a&nbsp\;<span style="border: 0px\; font-style: inherit\; font-variant: inherit\; font-weight: bold\; font-stretch: inherit\; font-size: inherit\; line-height: inherit\; font-family: inherit\; font-optical-sizing: inherit\; font-size-adjust: inherit\; font-kerning: inherit\; font-feature-settings: inherit\; font-variation-settings: inherit\; margin: 0px\; padding: 0px\; vertical-align: baseline\; color: inherit\;">pricing strategy</span></li>\n	<li style="padding: 0px\; margin: 0px\;">Identify your ideal&nbsp\;<span style="border: 0px\; font-style: inherit\; font-variant: inherit\; font-weight: bold\; font-stretch: inherit\; font-size: inherit\; line-height: inherit\; font-family: inherit\; font-optical-sizing: inherit\; font-size-adjust: inherit\; font-kerning: inherit\; font-feature-settings: inherit\; font-variation-settings: inherit\; margin: 0px\; padding: 0px\; vertical-align: baseline\; color: inherit\;">target markets</span>&nbsp\;to focus your efforts</li>\n	<li style="padding: 0px\; margin: 0px\;">Select the most effective&nbsp\;<span style="border: 0px\; font-style: inherit\; font-variant: inherit\; font-weight: bold\; font-stretch: inherit\; font-size: inherit\; line-height: inherit\; font-family: inherit\; font-optical-sizing: inherit\; font-size-adjust: inherit\; font-kerning: inherit\; font-feature-settings: inherit\; font-variation-settings: inherit\; margin: 0px\; padding: 0px\; vertical-align: baseline\; color: inherit\;">marketing channels</span>&nbsp\;to reach your audience</li>\n	<li style="padding: 0px\; margin: 0px\;">Create a&nbsp\;<span style="border: 0px\; font-style: inherit\; font-variant: inherit\; font-weight: bold\; font-stretch: inherit\; font-size: inherit\; line-height: inherit\; font-family: inherit\; font-optical-sizing: inherit\; font-size-adjust: inherit\; font-kerning: inherit\; font-feature-settings: inherit\; font-variation-settings: inherit\; margin: 0px\; padding: 0px\; vertical-align: baseline\; color: inherit\;">marketing message</span>&nbsp\;that drives engagement and action</li>\n</ul>\n\n<p style="margin: 0px\; padding: 0px\; color: rgb(40\, 40\, 41)\; font-family: Lato\, sans-serif\; font-size: 16px\;">&nbsp\;</p>\n\n<p style="margin: 0px\; padding: 0px\; color: rgb(40\, 40\, 41)\; font-family: Lato\, sans-serif\; font-size: 16px\;">Perfect for entrepreneurs and small business owners\, this session offers actionable insights to build awareness and grow your business. Register today!</p>\n
LOCATION:Zoom
UID:e.1126.31346
SEQUENCE:3
DTSTAMP:20260424T053438Z
URL:https://business.lflbchamber.com/events/details/marketing-strategies-for-your-business-31346
END:VEVENT

END:VCALENDAR
