BEGIN:VCALENDAR
VERSION:2.0
PRODID:-//ChamberMaster//Event Calendar 2.0//EN
METHOD:PUBLISH
X-PUBLISHED-TTL:P3D
REFRESH-INTERVAL:P3D
CALSCALE:GREGORIAN
BEGIN:VEVENT
DTSTART:20220907T233000Z
DTEND:20220908T003000Z
X-MICROSOFT-CDO-ALLDAYEVENT:FALSE
SUMMARY:Medicare 101
DESCRIPTION:Medicare Solutions Network will present a free educational seminar to get you up to speed on what Medicare covers\, what it doesn't\, and your potential out of pocket exposure. We'll discuss Supplements\, Medicare Advantage Plans\, Part D Prescription Plans\, and cost saving strategies for the years ahead.
X-ALT-DESC;FMTTYPE=text/html:Medicare Solutions Network will present a free educational seminar to get you up to speed on what Medicare covers\, what it doesn&rsquo\;t\, and your potential out of pocket exposure. We&rsquo\;ll discuss Supplements\, Medicare Advantage Plans\, Part D Prescription Plans\, and cost saving strategies for the years ahead.
LOCATION:ZOOM
UID:e.1126.22347
SEQUENCE:3
DTSTAMP:20260426T040656Z
URL:https://business.lflbchamber.com/events/details/medicare-101-09-07-2022-22347
END:VEVENT

END:VCALENDAR
