BEGIN:VCALENDAR
VERSION:2.0
PRODID:-//ChamberMaster//Event Calendar 2.0//EN
METHOD:PUBLISH
X-PUBLISHED-TTL:P3D
REFRESH-INTERVAL:P3D
CALSCALE:GREGORIAN
BEGIN:VEVENT
DTSTART:20220930T000000Z
DTEND:20220930T010000Z
X-MICROSOFT-CDO-ALLDAYEVENT:FALSE
SUMMARY:Medicare 101
DESCRIPTION:Whether you are new to Medicare or a seasoned pro\, this presentation will guide you through the Medicare Maze and help you understand the different types of coverage available to you. With over 15 years of insurance experience\, Horizon Benefit Services will provide a refreshingly engaging and practical understanding of this complex topic and help answer your Medicare questions.
X-ALT-DESC;FMTTYPE=text/html:<div>\n<p>Whether you are new to Medicare or a seasoned pro\, this presentation will guide you through the Medicare Maze and help you understand the different types of coverage available to you. With over 15 years of insurance experience\, Horizon Benefit Services will provide a refreshingly engaging and practical understanding of this complex topic and help answer your Medicare questions.</p>\n</div>\n
LOCATION:Lake Bluff Public Library 123 E. Scranton Ave. Lake Bluff\, IL. 60044
UID:e.1126.22514
SEQUENCE:3
DTSTAMP:20260426T040752Z
URL:https://business.lflbchamber.com/events/details/medicare-101-09-29-2022-22514
END:VEVENT

END:VCALENDAR
