BEGIN:VCALENDAR
VERSION:2.0
PRODID:-//ChamberMaster//Event Calendar 2.0//EN
METHOD:PUBLISH
X-PUBLISHED-TTL:P3D
REFRESH-INTERVAL:P3D
CALSCALE:GREGORIAN
BEGIN:VEVENT
DTSTART:20260524T180000Z
DTEND:20260524T200000Z
X-MICROSOFT-CDO-ALLDAYEVENT:FALSE
SUMMARY:Memorial Day Service
DESCRIPTION:Join us at Fort Sheridan National Cemetery for our Memorial Day service. This year's theme is "Honoring our Heroes"
X-ALT-DESC;FMTTYPE=text/html:Join us at Fort Sheridan National Cemetery for our Memorial Day service. This year&#39\;s theme is &quot\;Honoring our Heroes&quot\;
LOCATION:Fort Sheridan National Cemetery Bluff Rd\, Lake Bluff\, IL\, 60044
UID:e.1126.34018
SEQUENCE:3
DTSTAMP:20260424T235339Z
URL:https://business.lflbchamber.com/events/details/memorial-day-service-34018
END:VEVENT

END:VCALENDAR
