BEGIN:VCALENDAR
VERSION:2.0
PRODID:-//ChamberMaster//Event Calendar 2.0//EN
METHOD:PUBLISH
X-PUBLISHED-TTL:P3D
REFRESH-INTERVAL:P3D
CALSCALE:GREGORIAN
BEGIN:VEVENT
DTSTART:20210722T220000Z
DTEND:20210723T000000Z
X-MICROSOFT-CDO-ALLDAYEVENT:FALSE
SUMMARY:Millennial Onboarding
DESCRIPTION:Learn how to create a specialized onboarding experience for your Millennial hires that helps match the technically-skilled workforce with the emerging needs of your company.
X-ALT-DESC;FMTTYPE=text/html:Learn how to create a specialized onboarding experience for your Millennial hires that helps match the technically-skilled workforce with the emerging needs of your company.
LOCATION:Live Zoom
UID:e.1126.20588
SEQUENCE:3
DTSTAMP:20260422T052858Z
URL:https://business.lflbchamber.com/events/details/millennial-onboarding-20588
END:VEVENT

END:VCALENDAR
