BEGIN:VCALENDAR
VERSION:2.0
PRODID:-//ChamberMaster//Event Calendar 2.0//EN
METHOD:PUBLISH
X-PUBLISHED-TTL:P3D
REFRESH-INTERVAL:P3D
CALSCALE:GREGORIAN
BEGIN:VEVENT
DTSTART:20250621T190000Z
DTEND:20250621T194500Z
X-MICROSOFT-CDO-ALLDAYEVENT:FALSE
SUMMARY:Miss Katie Sings
DESCRIPTION:Join performer\, Miss Katie Sings\, for a fun time of music and movement! Enjoy new and familiar songs rooted in kindness\, imaginative play\, and community. This program will be held outside\, weather permitting. \n\nMiss Katie Sings is for ages 0 - 7. Children under the age of 8 must have an adult with them during the event.
X-ALT-DESC;FMTTYPE=text/html:<p>Join performer\, Miss Katie Sings\, for a fun time of music and movement! Enjoy new and familiar songs rooted in kindness\, imaginative play\, and community. This program will be held outside\, weather permitting.&nbsp\;</p>\n\n<p><strong>Miss Katie Sings is for ages 0 - 7. Children under the age of 8 must have an adult with them during the event.</strong></p>\n
LOCATION:Lake Bluff Public Library 123 E. Scranton Ave. Lake Bluff\, IL. 60044
UID:e.1126.31008
SEQUENCE:3
DTSTAMP:20260424T093729Z
URL:https://business.lflbchamber.com/events/details/miss-katie-sings-31008
END:VEVENT

END:VCALENDAR
