BEGIN:VCALENDAR
VERSION:2.0
PRODID:-//ChamberMaster//Event Calendar 2.0//EN
METHOD:PUBLISH
X-PUBLISHED-TTL:P3D
REFRESH-INTERVAL:P3D
CALSCALE:GREGORIAN
BEGIN:VEVENT
DTSTART;VALUE=DATE:20190911
DTEND;VALUE=DATE:20190912
TRANSP:TRANSPARENT
X-MICROSOFT-CDO-ALLDAYEVENT:TRUE
SUMMARY:Mom's Night Out-Pilates and Pinot
DESCRIPTION:Enjoy a fun-filled Pilates Reformer Class with your Mom crew.  Come with friends or make new ones! The class will run from 6-6:50 P.M. and then we will meet for drinks in the area right around 7 P.M. for anyone that is available!
X-ALT-DESC;FMTTYPE=text/html:<p>Enjoy a fun-filled Pilates Reformer Class with your Mom crew.&nbsp\; Come with friends or make new ones! The class will run from 6-6:50 P.M. and then we will meet for drinks in the area right around 7 P.M. for anyone that is available!&nbsp\;</p>\n\n<p>&nbsp\;</p>\n\n<p>&nbsp\;</p>\n
LOCATION:246 E Deerpath Rd Suite 3 Lake Forest\, IL 60045
UID:e.1126.18181
SEQUENCE:3
DTSTAMP:20260424T012927Z
URL:https://business.lflbchamber.com/events/details/mom-s-night-out-pilates-and-pinot-18181
END:VEVENT

END:VCALENDAR
