BEGIN:VCALENDAR
VERSION:2.0
PRODID:-//ChamberMaster//Event Calendar 2.0//EN
METHOD:PUBLISH
X-PUBLISHED-TTL:P3D
REFRESH-INTERVAL:P3D
CALSCALE:GREGORIAN
BEGIN:VEVENT
DTSTART:20190409T150000Z
DTEND:20190430T160000Z
X-MICROSOFT-CDO-ALLDAYEVENT:FALSE
SUMMARY:Morning Yoga with Kristy Harley
DESCRIPTION:WAKE-UP your morning routine! Relax\, Renew and Recenter with Classical Hatha poses\, meditation\, breathwork and deep relaxation. Unite your mind and body in a spiritual transformation. You will tone and elongate your muscles while freeing your thoughts. Yoga has been an integral part of a complete wellness approach for centuries. **Please bring a Yoga mat\, water\, blanket and a small pillow
X-ALT-DESC;FMTTYPE=text/html:WAKE-UP your morning routine! Relax\, Renew and Recenter with Classical Hatha poses\, meditation\, breathwork and deep relaxation. Unite your mind and body in a spiritual transformation. You will tone and elongate your muscles while freeing your thoughts. Yoga has been an integral part of a complete wellness approach for centuries. **Please bring a Yoga mat\, water\, blanket and a small pillow
LOCATION:Gorton Community Center 400 E. Illinois Road\, Lake Forest\, IL 60045
UID:e.1126.17688
SEQUENCE:3
DTSTAMP:20260424T085105Z
URL:https://business.lflbchamber.com/events/details/morning-yoga-with-kristy-harley-17688
END:VEVENT

END:VCALENDAR
