BEGIN:VCALENDAR
VERSION:2.0
PRODID:-//ChamberMaster//Event Calendar 2.0//EN
METHOD:PUBLISH
X-PUBLISHED-TTL:P3D
REFRESH-INTERVAL:P3D
CALSCALE:GREGORIAN
BEGIN:VEVENT
DTSTART:20240712T200000Z
DTEND:20240712T204500Z
X-MICROSOFT-CDO-ALLDAYEVENT:FALSE
SUMMARY:Morris the Magic Man
DESCRIPTION:Register and join us in person for a magical afternoon with Morris the Magic Man! Get ready for illusions\, puppets\, and fun while practicing wonderful qualities including courtesy\, cooperation\, and honesty.
X-ALT-DESC;FMTTYPE=text/html:<span style="font-family:gotham\,sans-serif\; font-size:14px">Register and join us in person for a magical afternoon with Morris the Magic Man! Get ready for illusions\, puppets\, and fun while practicing wonderful qualities including courtesy\, cooperation\, and honesty.</span>
LOCATION:360 E Deerpath Rd Lake Forest\, IL 60045
UID:e.1126.27546
SEQUENCE:3
DTSTAMP:20260423T194409Z
URL:https://business.lflbchamber.com/events/details/morris-the-magic-man-07-12-2024-27546
END:VEVENT

END:VCALENDAR
