BEGIN:VCALENDAR
VERSION:2.0
PRODID:-//ChamberMaster//Event Calendar 2.0//EN
METHOD:PUBLISH
X-PUBLISHED-TTL:P3D
REFRESH-INTERVAL:P3D
CALSCALE:GREGORIAN
BEGIN:VEVENT
DTSTART:20190614T163000Z
DTEND:20190615T010000Z
X-MICROSOFT-CDO-ALLDAYEVENT:FALSE
SUMMARY:Mothers Trust Foundation 9th Annual Golf Classic
DESCRIPTION:Help Mothers Trust Foundtion support Lake County's most vulnerable kids at "the most fun golf outing in Lake County"! Golf registration includes a round of golf\, cart\, lunch\, dinner and 3 oasis with unlimited snacks & cocktails. Hole in One\, Ball Launcher\, High School Driver and Cheats available too!
X-ALT-DESC;FMTTYPE=text/html:Help Mothers Trust Foundtion support Lake County&#39\;s most vulnerable kids at &quot\;the most fun golf outing in Lake County&quot\;! Golf registration includes a round of golf\, cart\, lunch\, dinner and 3 oasis with unlimited snacks &amp\; cocktails. Hole in One\, Ball Launcher\, High School Driver and Cheats available too!
LOCATION:Pine Meadow Golf Club 1 Pine Meadow Lane Mundelein
UID:e.1126.17875
SEQUENCE:3
DTSTAMP:20260424T071442Z
URL:https://business.lflbchamber.com/events/details/mothers-trust-foundation-9th-annual-golf-classic-17875
END:VEVENT

END:VCALENDAR
