BEGIN:VCALENDAR
VERSION:2.0
PRODID:-//ChamberMaster//Event Calendar 2.0//EN
METHOD:PUBLISH
X-PUBLISHED-TTL:P3D
REFRESH-INTERVAL:P3D
CALSCALE:GREGORIAN
BEGIN:VEVENT
DTSTART:20251105T230000Z
DTEND:20251106T010000Z
X-MICROSOFT-CDO-ALLDAYEVENT:FALSE
SUMMARY:Multi-Chamber Networking
DESCRIPTION:Come and network with area Chambers of Commerce at The College of Lake County in Grayslake.\n\n\n\nThis special evening of networking will bring together chambers across Lake County. Last year\, 11 Chambers participated\, making it one of our most collaborative events of the year! The evening will include refreshments and a tour of the James Lumber Center for the Performing Arts.  \nAll businesses are welcome!\n\nPlease RSVP with your local Chamber of Commerce to attend.\n\nParticipating Chambers include:\n\nLake Zurich Area Chamber of Commerce   Wauconda Area Chamber of Commerce   GLMV Chamber of Commerce   Chain O'Lakes Area Chamber of Commerce   Lake Forest/Lake Bluff Chamber of Commerce   Buffalo Grove/Lincolnshire Chamber of Commerce   Village of Gurnee Chamber of Commerce   Lake Villa/Lindenhurst/Round Lake Area Chamber of Commerce   Grayslake Chamber of Commerce   DBR Chamber of Commerce   Hispanic Chamber of Lake County
X-ALT-DESC;FMTTYPE=text/html:<span style="font-size:16px\;">Come and network with area Chambers of Commerce at The College of Lake County in Grayslake.</span><br />\n<br />\n<span style="color: rgb(36\, 36\, 36)\; font-family: &quot\;Segoe UI&quot\;\, &quot\;Segoe UI Web (West European)&quot\;\, -apple-system\, BlinkMacSystemFont\, Roboto\, &quot\;Helvetica Neue&quot\;\, sans-serif\; font-size: 15px\;">This special evening of networking will bring together&nbsp\;</span><span class="x_gmail-il" style="border: 0px\; font-variant-numeric: inherit\; font-variant-east-asian: inherit\; font-variant-alternates: inherit\; font-variant-position: inherit\; font-variant-emoji: inherit\; font-stretch: inherit\; font-size: 15px\; line-height: inherit\; font-family: &quot\;Segoe UI&quot\;\, &quot\;Segoe UI Web (West European)&quot\;\, -apple-system\, BlinkMacSystemFont\, Roboto\, &quot\;Helvetica Neue&quot\;\, sans-serif\; font-optical-sizing: inherit\; font-size-adjust: inherit\; font-kerning: inherit\; font-feature-settings: inherit\; font-variation-settings: inherit\; margin: 0px\; padding: 0px\; vertical-align: baseline\; color: rgb(36\, 36\, 36)\;">chambers</span><span style="color: rgb(36\, 36\, 36)\; font-family: &quot\;Segoe UI&quot\;\, &quot\;Segoe UI Web (West European)&quot\;\, -apple-system\, BlinkMacSystemFont\, Roboto\, &quot\;Helvetica Neue&quot\;\, sans-serif\; font-size: 15px\;">&nbsp\;across Lake County. Last year\,&nbsp\;</span><strong style="color: rgb(36\, 36\, 36)\; font-family: &quot\;Segoe UI&quot\;\, &quot\;Segoe UI Web (West European)&quot\;\, -apple-system\, BlinkMacSystemFont\, Roboto\, &quot\;Helvetica Neue&quot\;\, sans-serif\; font-size: 15px\;"><span style="border: 0px\; font-style: inherit\; font-variant: inherit\; font-weight: inherit\; font-stretch: inherit\; font-size: inherit\; line-height: inherit\; font-family: Aptos\, sans-serif\; font-optical-sizing: inherit\; font-size-adjust: inherit\; font-kerning: inherit\; font-feature-settings: inherit\; font-variation-settings: inherit\; margin: 0px\; padding: 0px\; vertical-align: baseline\; color: inherit\;">11&nbsp\;</span></strong><span class="x_gmail-il" style="border: 0px\; font-variant-numeric: inherit\; font-variant-east-asian: inherit\; font-variant-alternates: inherit\; font-variant-position: inherit\; font-variant-emoji: inherit\; font-stretch: inherit\; font-size: 15px\; line-height: inherit\; font-family: &quot\;Segoe UI&quot\;\, &quot\;Segoe UI Web (West European)&quot\;\, -apple-system\, BlinkMacSystemFont\, Roboto\, &quot\;Helvetica Neue&quot\;\, sans-serif\; font-optical-sizing: inherit\; font-size-adjust: inherit\; font-kerning: inherit\; font-feature-settings: inherit\; font-variation-settings: inherit\; margin: 0px\; padding: 0px\; vertical-align: baseline\; color: rgb(36\, 36\, 36)\;"><b>Chambers</b></span><strong style="color: rgb(36\, 36\, 36)\; font-family: &quot\;Segoe UI&quot\;\, &quot\;Segoe UI Web (West European)&quot\;\, -apple-system\, BlinkMacSystemFont\, Roboto\, &quot\;Helvetica Neue&quot\;\, sans-serif\; font-size: 15px\;"><span style="border: 0px\; font-style: inherit\; font-variant: inherit\; font-weight: inherit\; font-stretch: inherit\; font-size: inherit\; line-height: inherit\; font-family: Aptos\, sans-serif\; font-optical-sizing: inherit\; font-size-adjust: inherit\; font-kerning: inherit\; font-feature-settings: inherit\; font-variation-settings: inherit\; margin: 0px\; padding: 0px\; vertical-align: baseline\; color: inherit\;">&nbsp\;participated</span></strong><span style="color: rgb(36\, 36\, 36)\; font-family: &quot\;Segoe UI&quot\;\, &quot\;Segoe UI Web (West European)&quot\;\, -apple-system\, BlinkMacSystemFont\, Roboto\, &quot\;Helvetica Neue&quot\;\, sans-serif\; font-size: 15px\;">\, making it one of our most collaborative events of the year! The evening will include&nbsp\;</span><strong style="color: rgb(36\, 36\, 36)\; font-family: &quot\;Segoe UI&quot\;\, &quot\;Segoe UI Web (West European)&quot\;\, -apple-system\, BlinkMacSystemFont\, Roboto\, &quot\;Helvetica Neue&quot\;\, sans-serif\; font-size: 15px\;"><span style="border: 0px\; font-style: inherit\; font-variant: inherit\; font-weight: inherit\; font-stretch: inherit\; font-size: inherit\; line-height: inherit\; font-family: Aptos\, sans-serif\; font-optical-sizing: inherit\; font-size-adjust: inherit\; font-kerning: inherit\; font-feature-settings: inherit\; font-variation-settings: inherit\; margin: 0px\; padding: 0px\; vertical-align: baseline\; color: inherit\;">refreshments and a tour of the James Lumber Center for the Performing Arts</span></strong><span style="color: rgb(36\, 36\, 36)\; font-family: &quot\;Segoe UI&quot\;\, &quot\;Segoe UI Web (West European)&quot\;\, -apple-system\, BlinkMacSystemFont\, Roboto\, &quot\;Helvetica Neue&quot\;\, sans-serif\; font-size: 15px\;">.</span><span class="x_gmaildefault" style="border: 0px\; font-variant-numeric: inherit\; font-variant-east-asian: inherit\; font-variant-alternates: inherit\; font-variant-position: inherit\; font-variant-emoji: inherit\; font-stretch: inherit\; font-size: 15px\; line-height: inherit\; font-family: &quot\;Segoe UI&quot\;\, &quot\;Segoe UI Web (West European)&quot\;\, -apple-system\, BlinkMacSystemFont\, Roboto\, &quot\;Helvetica Neue&quot\;\, sans-serif\; font-optical-sizing: inherit\; font-size-adjust: inherit\; font-kerning: inherit\; font-feature-settings: inherit\; font-variation-settings: inherit\; margin: 0px\; padding: 0px\; vertical-align: baseline\; color: rgb(36\, 36\, 36)\;"><span style="border: 0px\; font-style: inherit\; font-variant: inherit\; font-weight: inherit\; font-stretch: inherit\; font-size: inherit\; line-height: inherit\; font-family: Verdana\, sans-serif\; font-optical-sizing: inherit\; font-size-adjust: inherit\; font-kerning: inherit\; font-feature-settings: inherit\; font-variation-settings: inherit\; margin: 0px\; padding: 0px\; vertical-align: baseline\; color: inherit\;">&nbsp\;&nbsp\;</span></span>\n<p class="PSXEditorTheme__paragraph" dir="ltr" style="box-sizing: border-box\; margin: 0px 0px 8px\; position: relative\; color: rgb(0\, 0\, 0)\; font-family: Roboto\, -apple-system\, BlinkMacSystemFont\, &quot\;Segoe UI&quot\;\, &quot\;Helvetica Neue&quot\;\, Arial\, &quot\;Noto Sans&quot\;\, sans-serif\, &quot\;Apple Color Emoji&quot\;\, &quot\;Segoe UI Emoji&quot\;\, &quot\;Segoe UI Symbol&quot\;\, &quot\;Noto Color Emoji&quot\;\; font-size: 16px\;"><span style="box-sizing: border-box\; white-space-collapse: preserve\;">All businesses are welcome!</span><br style="box-sizing: border-box\;" />\n<span style="box-sizing: border-box\; white-space-collapse: preserve\;">Please RSVP with your local Chamber of Commerce to attend.</span></p>\n\n<p class="PSXEditorTheme__paragraph" dir="ltr" style="box-sizing: border-box\; margin: 0px\; position: relative\; color: rgb(0\, 0\, 0)\; font-family: Roboto\, -apple-system\, BlinkMacSystemFont\, &quot\;Segoe UI&quot\;\, &quot\;Helvetica Neue&quot\;\, Arial\, &quot\;Noto Sans&quot\;\, sans-serif\, &quot\;Apple Color Emoji&quot\;\, &quot\;Segoe UI Emoji&quot\;\, &quot\;Segoe UI Symbol&quot\;\, &quot\;Noto Color Emoji&quot\;\; font-size: 16px\;"><span style="box-sizing: border-box\; white-space-collapse: preserve\;">Participating Chambers include:</span><br style="box-sizing: border-box\;" />\n<span style="box-sizing: border-box\; white-space-collapse: preserve\;">Lake Zurich Area Chamber of Commerce &bull\; Wauconda Area Chamber of Commerce &bull\; GLMV Chamber of Commerce &bull\; Chain O&rsquo\;Lakes Area Chamber of Commerce &bull\; Lake Forest/Lake Bluff Chamber of Commerce &bull\; Buffalo Grove/Lincolnshire Chamber of Commerce &bull\; Village of Gurnee Chamber of Commerce &bull\; Lake Villa/Lindenhurst/Round Lake Area Chamber of Commerce &bull\; Grayslake Chamber of Commerce &bull\; DBR Chamber of Commerce &bull\; Hispanic Chamber of Lake County</span></p>\n
LOCATION:James Lumber Center for the Performing Arts 19351 W Washington St Grayslake\, IL 60030
UID:e.1126.32342
SEQUENCE:3
DTSTAMP:20260424T105710Z
URL:https://business.lflbchamber.com/events/details/multi-chamber-networking-32342
END:VEVENT

END:VCALENDAR
