BEGIN:VCALENDAR
VERSION:2.0
PRODID:-//ChamberMaster//Event Calendar 2.0//EN
METHOD:PUBLISH
X-PUBLISHED-TTL:P3D
REFRESH-INTERVAL:P3D
CALSCALE:GREGORIAN
BEGIN:VEVENT
DTSTART:20190515T230000Z
DTEND:20190516T000000Z
X-MICROSOFT-CDO-ALLDAYEVENT:FALSE
SUMMARY:Mystery Authors Susanna Calkins and E.C. Diskin in Conversation
DESCRIPTION:Mystery Authors Susanna Calkins and E. C. Diskin in Conversation\n\n\n\n\n\n\n\n\nJoin us at Lake Forest Book Store for an evening dedicated to MYSTERY\, MURDER and MAYHEM as Chicago-area writers Susanna Calkins and E. C. Diskin appear IN CONVERSATION\n\nWednesday\, May 15\, 2019 at 6:00 PM\n\nat Lake Forest Book Store\n\nBooks available for purchase and signing. \n\nRefreshments will be served.\n\nRegister at 847-234-4420\n\nMURDER KNOCKS TWICE: A MYSTERY  by Susanna Calkins\n\nMinotaur Books $18.00 Releases April 30\, 2019\n\nThe first mystery in Susanna Calkins' captivating new series takes readers into the dark\, dangerous\, and glittering underworld of a 1920s Chicago speakeasy. Gina Ricci takes on a job as a cigarette girl to earn money for her ailing father--and to prove to herself that she can hold her own at Chicago's most notorious speakeasy\, the Third Door. She's enchanted by the harsh\, glamorous world she discovers: the sleek socialites sipping bootlegged cocktails\, the rowdy ex-servicemen playing poker in a curtained back room\, the flirtatious jazz pianist and the brooding photographer--all overseen by the club's imposing owner\, Signora Castallazzo. But the staff buzzes with whispers about Gina's predecessor\, who died under mysterious circumstances\, and the photographer\, Marty\, warns her to be careful. When Marty is brutally murdered\, with Gina as the only witness\, she's determined to track down his killer. What secrets did Marty capture on his camera--and who would do anything to destroy it? As Gina searches for answers\, she's pulled deeper into the shadowy truths hiding behind the Third Door.\n\nDESPERATE PATHS by E. C. Diskin\n\nThomas & Mercer Publishing  $16.00  Releases March 19\, 2019\n\nIn Eden\, the truth can have deadly consequences. Brooklyn Anderson knows it looks bad. She was found wiping down a gun. Her father now dead. His blood on her hands. The incomprehensible nightmare has started. Seven days earlier\, Brooklyn had returned to Eden to care for her beloved father\, who lay helpless in a hospital bed. Her estranged sister\, Ginny\, said he fell. But as Brooklyn soon realizes\, Ginny is prone to lying. Former Eden resident Darius Woods was in the hospital too. The famous actor had written a screenplay that would lay bare all the secrets of the town\, but within hours of his return\, someone shot him. As the Woods investigation proceeds\, and Brooklyn starts to question everything she believes about her family\, her neighbors\, and her home\, secrets and lies begin to unravel. But nothing can prepare her for where those lies will finally lead. And sharing the truth of what happened the night her father died might just make things worse.\n\nSusanna Calkins\, author of the award-winning Lucy Campion series\, holds a PhD in history and teaches at the college level. Her historical mysteries have been nominated for the Mary Higgins Clark and Agatha awards\, among many others\, and The Masque of a Murderer received a Macavity. Originally from Philadelphia\, Susanna now lives in the Chicago area with her husband and two sons.\n\nE. C. Diskin is the author of the bestselling novels The Green Line\, Broken Grace\, and Depth of Lies. She lives outside Chicago with her family. Find out more about the author and her work at www.ecdiskin.com.\n\n\n\n\n\nEvent date: \n\n\nWednesday\, May 15\, 2019 - 6:00pm to 7:00pm\n\n\n\n\nEvent address: \n\n\n\n\nLake Forest Book Store\n\n662 N. Western Avenue\n\n\nLake Forest\, IL 60045
X-ALT-DESC;FMTTYPE=text/html:<h1>Mystery Authors Susanna Calkins and E. C. Diskin in Conversation</h1>\n\n<div>\n<div>\n<div>\n<div>\n<div>\n<div>\n<div>\n<p><strong>Join us at Lake Forest Book Store for an evening dedicated to&nbsp\;<em>MYSTERY\, MURDER and MAYHEM</em>&nbsp\;as Chicago-area writers&nbsp\;Susanna Calkins and E. C. Diskin appear IN CONVERSATION</strong></p>\n\n<div style="text-align:center"><strong>Wednesday\, May 15\, 2019 at 6:00 PM</strong></div>\n\n<p style="text-align:center"><strong>at Lake Forest Book Store</strong></p>\n\n<p style="text-align:center"><strong>Books available for purchase and signing.&nbsp\;</strong></p>\n\n<p style="text-align:center"><strong>Refreshments will be served.</strong></p>\n\n<p style="text-align:center"><strong>Register at 847-234-4420</strong></p>\n\n<div><strong>MURDER KNOCKS TWICE: A MYSTERY&nbsp\; by Susanna Calkins</strong></div>\n\n<p><strong>Minotaur Books $18.00 Releases April 30\, 2019</strong></p>\n\n<p><strong>The first mystery in Susanna Calkins&#39\; captivating new series takes readers into the dark\, dangerous\, and glittering underworld of a 1920s Chicago speakeasy.&nbsp\;Gina Ricci takes on a job as a cigarette girl to earn money for her ailing father--and to prove to herself that she can hold her own at Chicago&#39\;s most notorious speakeasy\, the Third Door. She&#39\;s enchanted by the harsh\, glamorous world she discovers: the sleek socialites sipping bootlegged cocktails\, the rowdy ex-servicemen playing poker in a curtained back room\, the flirtatious jazz pianist and the brooding photographer--all overseen by the club&#39\;s imposing owner\, Signora Castallazzo. But the staff buzzes with whispers about Gina&#39\;s predecessor\, who died under mysterious circumstances\, and the photographer\, Marty\, warns her to be careful.&nbsp\;When Marty is brutally murdered\, with Gina as the only witness\, she&#39\;s determined to track down his killer. What secrets did Marty capture on his camera--and who would do anything to destroy it? As Gina searches for answers\, she&#39\;s pulled deeper into the shadowy truths hiding behind the Third Door.</strong></p>\n\n<div><strong><span style="font-family:lucida sans unicode\,lucida grande\,sans-serif">DESPERATE PATHS by E. C. Diskin</span></strong></div>\n\n<p><strong>Thomas &amp\; Mercer Publishing&nbsp\; $16.00&nbsp\; Releases March&nbsp\;19\, 2019</strong></p>\n\n<p><strong>In Eden\, the truth can have deadly consequences.&nbsp\;Brooklyn Anderson knows it looks bad. She was found wiping down a gun. Her father now dead. His blood on her hands. The incomprehensible nightmare has started.&nbsp\;Seven days earlier\, Brooklyn had returned to Eden to care for her beloved father\, who lay helpless in a hospital bed. Her estranged sister\, Ginny\, said he fell. But as Brooklyn soon realizes\, Ginny is prone to lying.&nbsp\;Former Eden resident Darius Woods was in the hospital too. The famous actor had written a screenplay that would lay bare all the secrets of the town\, but within hours of his return\, someone shot him.&nbsp\;As the Woods investigation proceeds\, and Brooklyn starts to question everything she believes about her family\, her neighbors\, and her home\, secrets and lies begin to unravel. But nothing can prepare her for where those lies will finally lead.&nbsp\;And sharing the truth of what happened the night her father died might just make things worse.</strong></p>\n\n<p>Susanna Calkins\, author of the award-winning Lucy Campion series\, holds a PhD in history and teaches at the college level. Her historical mysteries have been nominated for the Mary Higgins Clark and Agatha awards\, among many others\, and&nbsp\;<em>The Masque of a Murderer&nbsp\;</em>received a Macavity. Originally from Philadelphia\, Susanna&nbsp\;now lives in the Chicago area with her husband and two sons.</p>\n\n<p>E. C. Diskin is the author of the bestselling novels&nbsp\;<em>The Green Line</em>\,&nbsp\;<em>Broken Grace</em>\, and&nbsp\;<em>Depth of Lies</em>. She lives outside Chicago with her family. Find out more about the author and her work at&nbsp\;<span style="color:rgb(0\, 255\, 0)"><a href="http://www.ecdiskin.com/" style="margin: 0px\; padding: 0px\; border: 0px\; vertical-align: baseline\; color: rgb(0\, 169\, 157)\; text-decoration: none\;">www.ecdiskin.com</a></span>.</p>\n</div>\n</div>\n</div>\n\n<div>\n<div>Event date:&nbsp\;</div>\n\n<div>\n<div>Wednesday\, May 15\, 2019 -&nbsp\;6:00pm&nbsp\;to&nbsp\;7:00pm</div>\n</div>\n</div>\n\n<div>\n<div>Event address:&nbsp\;</div>\n\n<div>\n<div>\n<div>\n<div>Lake Forest Book Store</div>\n\n<div>662 N. Western Avenue</div>\n</div>\n\n<div>Lake Forest\,&nbsp\;IL&nbsp\;60045</div>\n</div>\n</div>\n</div>\n</div>\n</div>\n</div>\n</div>\n
LOCATION:Lake Forest Book Store 662 N. Western Avenue Lake Forest
UID:e.1126.17781
SEQUENCE:3
DTSTAMP:20260424T072636Z
URL:https://business.lflbchamber.com/events/details/mystery-authors-susanna-calkins-and-e-c-diskin-in-conversation-17781
END:VEVENT

END:VCALENDAR
