BEGIN:VCALENDAR
VERSION:2.0
PRODID:-//ChamberMaster//Event Calendar 2.0//EN
METHOD:PUBLISH
X-PUBLISHED-TTL:P3D
REFRESH-INTERVAL:P3D
CALSCALE:GREGORIAN
BEGIN:VEVENT
DTSTART:20240614T000000Z
DTEND:20240614T010000Z
X-MICROSOFT-CDO-ALLDAYEVENT:FALSE
SUMMARY:Mystery Book Group: "Everyone in My Family Has Killed Someone"
DESCRIPTION:Register and join us in person or on Zoom and indulge your inner detective!\n\nJune 13\n\nEveryone in My Family Has Killed Someone by Benjamin Stevenson
X-ALT-DESC;FMTTYPE=text/html:<p>Register and join us in person or on Zoom and indulge your inner detective!</p>\n\n<h4>June 13</h4>\n\n<p><em>Everyone in My Family Has Killed Someone&nbsp\;</em>by Benjamin Stevenson</p>\n
LOCATION:Lake Forest Library 360 E Deerpath Rd Lake Forest IL 60045 or Lake Forest Library Zoom
UID:e.1126.26677
SEQUENCE:3
DTSTAMP:20260424T010908Z
URL:https://business.lflbchamber.com/events/details/mystery-book-group-everyone-in-my-family-has-killed-someone-26677
END:VEVENT

END:VCALENDAR
