BEGIN:VCALENDAR
VERSION:2.0
PRODID:-//ChamberMaster//Event Calendar 2.0//EN
METHOD:PUBLISH
X-PUBLISHED-TTL:P3D
REFRESH-INTERVAL:P3D
CALSCALE:GREGORIAN
BEGIN:VEVENT
DTSTART:20220917T153000Z
DTEND:20220917T160000Z
X-MICROSOFT-CDO-ALLDAYEVENT:FALSE
SUMMARY:Mystery Reader Storytime
DESCRIPTION:Ages 3 - 6.\n\nJoin us on select Saturdays each month for stories and activities led by a different Mystery Reader.\n\nMystery Reader Storytime will also be held on October 1st\, October 15th\, November 5th\, and November 19th.
X-ALT-DESC;FMTTYPE=text/html:<p>Ages 3 - 6.</p>\n\n<p><span style="font-family:arial\,helvetica\,sans-serif">Join us on select Saturdays each month for stories and activities led by a different Mystery Reader.</span></p>\n\n<div>Mystery Reader Storytime will also be held on October 1st\, October 15th\, November 5th\, and November 19th.</div>\n
LOCATION:Lake Bluff Public Library 123 E. Scranton Ave. Lake Bluff\, IL. 60044
UID:e.1126.22479
SEQUENCE:3
DTSTAMP:20260426T040716Z
URL:https://business.lflbchamber.com/events/details/mystery-reader-storytime-09-17-2022-22479
END:VEVENT

END:VCALENDAR
