BEGIN:VCALENDAR
VERSION:2.0
PRODID:-//ChamberMaster//Event Calendar 2.0//EN
METHOD:PUBLISH
X-PUBLISHED-TTL:P3D
REFRESH-INTERVAL:P3D
CALSCALE:GREGORIAN
BEGIN:VEVENT
DTSTART:20240606T000000Z
DTEND:20240606T010000Z
X-MICROSOFT-CDO-ALLDAYEVENT:FALSE
SUMMARY:Nelly Bly: Around the World in Seventy-Two Days
DESCRIPTION:Register and join us in person as reenactor Debra Ann Miller brings Nellie Bly to life. Nellie became famous as a pioneer of investigative journalism for her expos  of terrible conditions at the New York City Lunatic Asylum. In 1889\, she began a solo trip around the world in emulation of the fictional character Phileas Fogg from the 1873 Jules Verne novel "Around the World in Eighty Days\," completing her journey in a record-breaking 72 days. We join Nellie in 1919 at the US Embassy in Paris as she recounts her adventures as a reporter and as a war correspondent.
X-ALT-DESC;FMTTYPE=text/html:<span style="font-family:gotham\,sans-serif\; font-size:14px">Register and join us in person as reenactor Debra Ann Miller brings Nellie Bly to life. Nellie&nbsp\;became famous as a pioneer of investigative journalism for her expos&eacute\; of terrible conditions at the New York City Lunatic Asylum. In 1889\, she began a solo trip around the world in emulation of the fictional character Phileas Fogg from the 1873 Jules Verne novel &quot\;Around the World in Eighty Days\,&quot\; completing her journey in a record-breaking 72 days. We join Nellie in 1919 at the US Embassy in Paris as she recounts her adventures as a reporter and as a war correspondent.</span>
LOCATION:Lake Forest Library 360 E Deerpath Rd Lake Forest IL 60045
UID:e.1126.26675
SEQUENCE:3
DTSTAMP:20260424T010757Z
URL:https://business.lflbchamber.com/events/details/nelly-bly-around-the-world-in-seventy-two-days-26675
END:VEVENT

END:VCALENDAR
