BEGIN:VCALENDAR
VERSION:2.0
PRODID:-//ChamberMaster//Event Calendar 2.0//EN
METHOD:PUBLISH
X-PUBLISHED-TTL:P3D
REFRESH-INTERVAL:P3D
CALSCALE:GREGORIAN
BEGIN:VEVENT
DTSTART:20250625T143000Z
DTEND:20250625T153000Z
X-MICROSOFT-CDO-ALLDAYEVENT:FALSE
SUMMARY:Nonprofit Basics
DESCRIPTION:Explore key steps to launch a nonprofit\, from incorporation to tax-exempt status\, while weighing benefits and challenges of the model.
X-ALT-DESC;FMTTYPE=text/html:<!--StartFragment--><span data-olk-copy-source="MessageBody" style="margin: 0px\;">Explore key steps to launch a nonprofit\, from incorporation to tax-exempt status\, while weighing benefits and challenges of the model.</span><!--EndFragment-->
LOCATION:Zoom
UID:e.1126.31376
SEQUENCE:3
DTSTAMP:20260424T080517Z
URL:https://business.lflbchamber.com/events/details/nonprofit-basics-31376
END:VEVENT

END:VCALENDAR
