BEGIN:VCALENDAR
VERSION:2.0
PRODID:-//ChamberMaster//Event Calendar 2.0//EN
METHOD:PUBLISH
X-PUBLISHED-TTL:P3D
REFRESH-INTERVAL:P3D
CALSCALE:GREGORIAN
BEGIN:VEVENT
DTSTART:20251202T190000Z
DTEND:20251202T200000Z
X-MICROSOFT-CDO-ALLDAYEVENT:FALSE
SUMMARY:Once Upon a Bagel Ribbon Cutting
DESCRIPTION:Join us for a delicious ribbon-cutting ceremony and warm welcome for one of our newest food businesses!  We'll be congregating at Once Upon a Bagel at 1:00 pm for the ceremony followed by the chance to taste some of Once Upon a Bagel's wonderful offerings.  Join us!
X-ALT-DESC;FMTTYPE=text/html:Join us for a delicious ribbon-cutting ceremony and warm welcome for one of our newest food businesses!&nbsp\; We&#39\;ll be congregating at Once Upon a Bagel at 1:00 pm for the ceremony followed by the chance to taste some of Once Upon a Bagel&#39\;s wonderful offerings.&nbsp\; Join us!
LOCATION:Once Upon a Bagel 268 East Deerpath \, Lake Forest
UID:e.1126.32660
SEQUENCE:3
DTSTAMP:20260424T123657Z
URL:https://business.lflbchamber.com/events/details/once-upon-a-bagel-ribbon-cutting-32660
END:VEVENT

END:VCALENDAR
