BEGIN:VCALENDAR
VERSION:2.0
PRODID:-//ChamberMaster//Event Calendar 2.0//EN
METHOD:PUBLISH
X-PUBLISHED-TTL:P3D
REFRESH-INTERVAL:P3D
CALSCALE:GREGORIAN
BEGIN:VEVENT
DTSTART:20240630T150000Z
DTEND:20240701T020000Z
X-MICROSOFT-CDO-ALLDAYEVENT:FALSE
SUMMARY:Online Survey Ends
DESCRIPTION:Survey available June 1st - June 30th\n\nHelp the Library plan for the future. Complete our online survey and share your ideas. All survey participants will be entered into a raffle for a Lake Forest/Lake Bluff Chamber of Commerce gift card. Sponsored in part by the Reaching Across Illinois Libraries System (RAILS) My Library Is Grant.\n\n\n\nOur online survey is for all ages.
X-ALT-DESC;FMTTYPE=text/html:<p><span style="font-family:arial\,helvetica\,sans-serif"><strong>Survey available June 1st - June 30th</strong></span></p>\n\n<p><span style="font-family:arial\,helvetica\,sans-serif"><span style="font-size:11pt">Help the Library plan for the future. Complete our online survey and share your ideas. All survey participants will be entered into a raffle for a Lake Forest/Lake Bluff Chamber of Commerce gift card. Sponsored in part by the&nbsp\;Reaching Across Illinois Libraries System (RAILS) My Library Is Grant.<br />\n<br />\nOur online survey is for all ages.</span></span></p>\n\n<p>&nbsp\;</p>\n\n<p>&nbsp\;</p>\n
LOCATION:Lake Bluff Public Library 123 E. Scranton Ave. Lake Bluff\, IL. 60044
UID:e.1126.27078
SEQUENCE:3
DTSTAMP:20260424T010511Z
URL:https://business.lflbchamber.com/events/details/online-survey-ends-27078
END:VEVENT

END:VCALENDAR
