BEGIN:VCALENDAR
VERSION:2.0
PRODID:-//ChamberMaster//Event Calendar 2.0//EN
METHOD:PUBLISH
X-PUBLISHED-TTL:P3D
REFRESH-INTERVAL:P3D
CALSCALE:GREGORIAN
BEGIN:VEVENT
DTSTART:20220907T000000Z
DTEND:20220907T010000Z
X-MICROSOFT-CDO-ALLDAYEVENT:FALSE
SUMMARY:Open Art Night
DESCRIPTION:Meet other artists in the community while you relax and create at this open session. Bring your current project to work on or see what you can make with the supplies provided.\n\nOpen Art Night will be held on September 6th\, October 11th\, and November 8th.\n\nPLEASE NOTE: Our newsletter states that registration is required for this program. It is not! You can just show up--no registration required. Our apologies for the error.
X-ALT-DESC;FMTTYPE=text/html:<div>\n<p>Meet other artists in the community while you relax and create at this open session. Bring your current project to work on or see what you can make with the supplies provided.</p>\n\n<p>Open Art Night will be held on September 6th\, October 11th\, and November 8th.</p>\n\n<p>PLEASE NOTE: Our newsletter states that registration is required for this program. It is not! You can just show up--no registration required. Our apologies for the error.</p>\n</div>\n\n<div>&nbsp\;</div>\n
LOCATION:Lake Bluff Public Library 123 E. Scranton Ave. Lake Bluff\, IL. 60044
UID:e.1126.22379
SEQUENCE:3
DTSTAMP:20260426T040459Z
URL:https://business.lflbchamber.com/events/details/open-art-night-22379
END:VEVENT

END:VCALENDAR
