BEGIN:VCALENDAR
VERSION:2.0
PRODID:-//ChamberMaster//Event Calendar 2.0//EN
METHOD:PUBLISH
X-PUBLISHED-TTL:P3D
REFRESH-INTERVAL:P3D
CALSCALE:GREGORIAN
BEGIN:VEVENT
DTSTART:20250412T190000Z
DTEND:20250412T210000Z
X-MICROSOFT-CDO-ALLDAYEVENT:FALSE
SUMMARY:Paint and Steep
DESCRIPTION:Join Teaching Artist Susie Speck for a step-by-step acrylic painting session. All supplies will be provided by Susie\, and music will inspire your creativity. Unwind and enjoy a relaxing afternoon\, with tea provided by the Library.\n\nPaint and Steep is for ages 16+
X-ALT-DESC;FMTTYPE=text/html:<p>Join Teaching Artist Susie Speck for a step-by-step acrylic painting session. All supplies will be provided by Susie\, and music will inspire your creativity. Unwind and enjoy a relaxing afternoon\, with tea provided by the Library.</p>\n\n<p><strong>Paint and Steep is for ages 16+</strong></p>\n
LOCATION:Lake Bluff Public Library 123 E. Scranton Ave. Lake Bluff\, IL. 60044
UID:e.1126.29987
SEQUENCE:3
DTSTAMP:20260424T040635Z
URL:https://business.lflbchamber.com/events/details/paint-and-steep-04-12-2025-29987
END:VEVENT

END:VCALENDAR
