BEGIN:VCALENDAR
VERSION:2.0
PRODID:-//ChamberMaster//Event Calendar 2.0//EN
METHOD:PUBLISH
X-PUBLISHED-TTL:P3D
REFRESH-INTERVAL:P3D
CALSCALE:GREGORIAN
BEGIN:VEVENT
DTSTART:20190320T233000Z
DTEND:20190321T003000Z
X-MICROSOFT-CDO-ALLDAYEVENT:FALSE
SUMMARY:Pajama Storytime
DESCRIPTION:Ages 3 and up (with an adult). Families\, come dressed in your PJs for this cozy evening storytime! Enjoy stories\, a craft\, and some milk and cookies as your evening winds down.\n\n\n\nRegistration is required. Please call or visit the children's department to register.
X-ALT-DESC;FMTTYPE=text/html:Ages 3 and up (with an adult). Families\, come dressed in your PJs for this cozy evening storytime! Enjoy stories\, a craft\, and some milk and cookies as your evening winds down.<br />\n<br />\nRegistration is required. Please call or visit the children&#39\;s department to register.
LOCATION:Lake Bluff Library 123 E Scranton Ave. Lake Bluff\, IL 60044
UID:e.1126.17622
SEQUENCE:3
DTSTAMP:20260424T113716Z
URL:https://business.lflbchamber.com/events/details/pajama-storytime-03-20-2019-17622
END:VEVENT

END:VCALENDAR
