BEGIN:VCALENDAR
VERSION:2.0
PRODID:-//ChamberMaster//Event Calendar 2.0//EN
METHOD:PUBLISH
X-PUBLISHED-TTL:P3D
REFRESH-INTERVAL:P3D
CALSCALE:GREGORIAN
BEGIN:VEVENT
DTSTART:20190302T010000Z
DTEND:20190302T030000Z
X-MICROSOFT-CDO-ALLDAYEVENT:FALSE
SUMMARY:Palette & Pours at the Deer Path Art League
DESCRIPTION:March Theme: Birds\n\nGrab a friend and join other adults of differing talents for a fun evening of wine and painting. Sandie Bacon & Lezlie Lenz will be teaching this inspiring yet relaxing class at the Deer Path Art League which is housed on the upper floor of the Gorton Community Center.\n\n\n\nNo matter what your talent level\, we guarantee you will have an unforgettable experience and a beautiful new piece of original artwork!
X-ALT-DESC;FMTTYPE=text/html:<span style="color:rgb(29\, 33\, 41)\; font-family:system-ui\,-apple-system\,blinkmacsystemfont\,.sfnstext-regular\,sans-serif\; font-size:14px">March Theme: Birds</span><br />\n<span style="color:rgb(29\, 33\, 41)\; font-family:system-ui\,-apple-system\,blinkmacsystemfont\,.sfnstext-regular\,sans-serif\; font-size:14px">Grab a friend and join other adults of differing talents for a fun evening of wine and painting. Sandie Bacon &amp\; Lezlie Lenz will be teaching this inspiring yet relaxing class at the Deer Path Art League which is housed on the upper floor of the Gorton Community Center.</span><br />\n<br />\n<span style="color:rgb(29\, 33\, 41)\; font-family:system-ui\,-apple-system\,blinkmacsystemfont\,.sfnstext-regular\,sans-serif\; font-size:14px">No matter what your talent level\, we guarantee you will have an unforgettable experience and a beautiful new piece of original artwork!</span>
LOCATION:Deer Path Art League Classrooms Second Floor\, Gorton Community Center 400 E Illinois Rd. Lake Forest\, IL 60045
UID:e.1126.17532
SEQUENCE:3
DTSTAMP:20260424T100622Z
URL:https://business.lflbchamber.com/events/details/palette-pours-at-the-deer-path-art-league-03-01-2019-17532
END:VEVENT

END:VCALENDAR
