BEGIN:VCALENDAR
VERSION:2.0
PRODID:-//ChamberMaster//Event Calendar 2.0//EN
METHOD:PUBLISH
X-PUBLISHED-TTL:P3D
REFRESH-INTERVAL:P3D
CALSCALE:GREGORIAN
BEGIN:VEVENT
DTSTART:20190716T233000Z
DTEND:20190717T003000Z
X-MICROSOFT-CDO-ALLDAYEVENT:FALSE
SUMMARY:Parent/Child Book Group (K-2)
DESCRIPTION:Spend some quality time with your child and join us for this fun book group! Read the book aloud or independently and then come in for a casual discussion. Multiple copies of the book will be available for checkout. This month's selection will be A Bargain for Frances by Russell Hoban
X-ALT-DESC;FMTTYPE=text/html:<br />\nSpend some quality time with your child and join us for this fun book group! Read the book aloud or independently and then come in for a casual discussion. Multiple copies of the book will be available for checkout. This month&#39\;s selection will be A Bargain for Frances by Russell Hoban
LOCATION:Lake Bluff Public Library 123 E. Scranton Ave. Lake Bluff\, IL 60044
UID:e.1126.18018
SEQUENCE:3
DTSTAMP:20260424T043607Z
URL:https://business.lflbchamber.com/events/details/parent-child-book-group-k-2-18018
END:VEVENT

END:VCALENDAR
