BEGIN:VCALENDAR
VERSION:2.0
PRODID:-//ChamberMaster//Event Calendar 2.0//EN
METHOD:PUBLISH
X-PUBLISHED-TTL:P3D
REFRESH-INTERVAL:P3D
CALSCALE:GREGORIAN
BEGIN:VEVENT
DTSTART:20190316T220000Z
DTEND:20190317T010000Z
X-MICROSOFT-CDO-ALLDAYEVENT:FALSE
SUMMARY:Passion to Dance 2019
DESCRIPTION:Lake Forest Dance Academy's Performance Companies take the stage in our annual benefit concert\, Passion to Dance! Don't miss this evening of unforgettable dance. Join us for a silent auction\, extravagant raffle prizes\, a spread of hors d'oeuvres and desserts\, beautiful choreography\, and a chance to see LFDA dancers at their best! 5:00pm Show Lobby reception immediately following Lake Forest Academy   Cressey Center for the Performing Arts Sponsored by the Lake Forest Parks & Recreation Department
X-ALT-DESC;FMTTYPE=text/html:Lake Forest Dance Academy&#39\;s Performance Companies take the stage in our annual benefit concert\, Passion to Dance! Don&rsquo\;t miss this evening of unforgettable dance. Join us for a silent auction\, extravagant raffle prizes\, a spread of hors d&rsquo\;oeuvres and desserts\, beautiful choreography\, and a chance to see LFDA dancers at their best! 5:00pm Show Lobby reception immediately following Lake Forest Academy &bull\; Cressey Center for the Performing Arts Sponsored by the Lake Forest Parks &amp\; Recreation Department
LOCATION:Lake Forest Academy Cressey Center for the Performing Arts
UID:e.1126.17557
SEQUENCE:3
DTSTAMP:20260424T100117Z
URL:https://business.lflbchamber.com/events/details/passion-to-dance-2019-17557
END:VEVENT

END:VCALENDAR
