BEGIN:VCALENDAR
VERSION:2.0
PRODID:-//ChamberMaster//Event Calendar 2.0//EN
METHOD:PUBLISH
X-PUBLISHED-TTL:P3D
REFRESH-INTERVAL:P3D
CALSCALE:GREGORIAN
BEGIN:VEVENT
DTSTART:20190708T210000Z
DTEND:20190708T220000Z
X-MICROSOFT-CDO-ALLDAYEVENT:FALSE
SUMMARY:Paws for a Tale
DESCRIPTION:Independent readers in 1st through 5th grade can sign up to read to a certified therapy dog. These gentle dogs are non-judgmental and great listeners for children who could use some quality time reading out loud\, or for those who just love dogs! Parents will need to sign a waiver form for participation. This program fills up quickly\, so register early for one or more 20-minute sessions.\n \n\n\n\n	\n		\n			Registration is required. Please call or visit the children's department to register.
X-ALT-DESC;FMTTYPE=text/html:<br />\nIndependent readers in 1st through 5th grade can sign up to read to a certified therapy dog. These gentle dogs are non-judgmental and great listeners for children who could use some quality time reading out loud\, or for those who just love dogs! Parents will need to sign a waiver form for participation. This program fills up quickly\, so register early for one or more 20-minute sessions.\n<div>&nbsp\;</div>\n\n<div>\n<table cellpadding="0" cellspacing="3" style="background-color:rgb(255\, 255\, 255)\; border-collapse:collapse\; border:0px rgb(211\, 211\, 211)\; color:rgb(0\, 0\, 0)\; font-family:arial\,sans-serif\; font-size:0.937em\; width:100%">\n	<tbody>\n		<tr>\n			<td>Registration is required. Please call or visit the children&#39\;s department to register.</td>\n		</tr>\n	</tbody>\n</table>\n</div>\n
LOCATION:Lake Bluff Public Library 123 E. Scranton Ave. Lake Bluff\, IL 60044
UID:e.1126.17969
SEQUENCE:3
DTSTAMP:20260424T055240Z
URL:https://business.lflbchamber.com/events/details/paws-for-a-tale-07-08-2019-17969
END:VEVENT

END:VCALENDAR
