BEGIN:VCALENDAR
VERSION:2.0
PRODID:-//ChamberMaster//Event Calendar 2.0//EN
METHOD:PUBLISH
X-PUBLISHED-TTL:P3D
REFRESH-INTERVAL:P3D
CALSCALE:GREGORIAN
BEGIN:VEVENT
DTSTART:20190522T151500Z
DTEND:20190522T164500Z
X-MICROSOFT-CDO-ALLDAYEVENT:FALSE
SUMMARY:PERFECT YOUR PITCH
DESCRIPTION:Presented by: Lauren Milligan\, CEO & Founder of ResuMAYDAY\n\n          All job seekers need a compelling pitch to tell potential employers and recruiters about themselves. Being able to communicate who you are and what you do quickly and effectively will ensure that you get your most important points across. In this interactive program\, you will receive:\n\n	Coaching to develop and polish a compelling\, clearly-defined pitch\;\n	Insider tips on public speaking and methods to develop your personal delivery style\;\n	The opportunity to network and deliver your pitch to other attendees for instant\, peer feedback.\n\nAfter years of working in a corporate setting in recruiting and sales\, Lauren Milligan started to have that ?entrepreneurial bug?. In September of 2001\, she left her comfy corporate job to start ResuMAYDAY. She also writes a TribLocal blog that covers job search and career advancement topics\, is a frequent contributor to CareerBuilder.com articles\, has been featured in several publications\, and a guest on several talk shows.
X-ALT-DESC;FMTTYPE=text/html:Presented by:&nbsp\;<span style="font-family:tahoma\,sans-serif"><span style="font-size:12.0pt">Lauren Milligan\, CEO &amp\; Founder of ResuMAYDAY</span><br>\n&nbsp\;&nbsp\;&nbsp\;&nbsp\;&nbsp\;&nbsp\;&nbsp\;&nbsp\;&nbsp\; All job seekers need a compelling pitch to tell potential employers and recruiters about themselves. Being able to communicate who you are and what you do quickly and effectively will ensure that you get your most important points across. In this interactive program\, you will receive:</span>\n<ul>\n	<li><span style="font-family:tahoma\,sans-serif">Coaching to develop and polish a compelling\, clearly-defined pitch\;</span></li>\n	<li><span style="font-family:tahoma\,sans-serif">Insider tips on public speaking and methods to develop your personal delivery style\;</span></li>\n	<li><span style="font-family:tahoma\,sans-serif">The opportunity to network and deliver your pitch to other attendees for instant\, peer feedback.</span></li>\n</ul>\n<span style="font-family:tahoma\,sans-serif">After years of working in a corporate setting in recruiting and sales\, Lauren Milligan started to have that ?entrepreneurial bug?. In September of 2001\, she left her comfy corporate job to start ResuMAYDAY. She also writes a TribLocal blog that covers job search and career advancement topics\, is a frequent contributor to CareerBuilder.com articles\, has been featured in several publications\, and a guest on several talk shows.</span><br>\n&nbsp\;
LOCATION:Career Resource Center Grove Cultural Campus 40 E. Old Mill Road Lake Forest\, IL 60045
UID:e.1126.17829
SEQUENCE:3
DTSTAMP:20260424T083847Z
URL:https://business.lflbchamber.com/events/details/perfect-your-pitch-05-22-2019-17829
END:VEVENT

END:VCALENDAR
