BEGIN:VCALENDAR
VERSION:2.0
PRODID:-//ChamberMaster//Event Calendar 2.0//EN
METHOD:PUBLISH
X-PUBLISHED-TTL:P3D
REFRESH-INTERVAL:P3D
CALSCALE:GREGORIAN
BEGIN:VEVENT
DTSTART:20220515T200000Z
DTEND:20220515T223000Z
X-MICROSOFT-CDO-ALLDAYEVENT:FALSE
SUMMARY:Picasso At The Lapin Agile
DESCRIPTION:Picasso and Einstein walk into a Parisian bar\, both believing they are the greatest gift to mankind  The events that take place can only be created in the "Wild and Crazy" mind of comedian Steve Martin as this comedy plays fast and loose with fact\, fame\, and fortune as these two geniuses muse on the century's achievements and prospects.
X-ALT-DESC;FMTTYPE=text/html:Picasso and Einstein walk into a Parisian bar\, both believing they are the greatest gift to mankind&hellip\; The events that take place can only be created in the &ldquo\;Wild and Crazy&rdquo\; mind of comedian Steve Martin as this comedy plays fast and loose with fact\, fame\, and fortune as these two geniuses muse on the century&rsquo\;s achievements and prospects.
LOCATION:300 Waukegan Road Lake Forest\, IL 60045
UID:e.1126.21835
SEQUENCE:3
DTSTAMP:20260420T075243Z
URL:https://business.lflbchamber.com/events/details/picasso-at-the-lapin-agile-05-15-2022-21835
END:VEVENT

END:VCALENDAR
