BEGIN:VCALENDAR
VERSION:2.0
PRODID:-//ChamberMaster//Event Calendar 2.0//EN
METHOD:PUBLISH
X-PUBLISHED-TTL:P3D
REFRESH-INTERVAL:P3D
CALSCALE:GREGORIAN
BEGIN:VEVENT
DTSTART;VALUE=DATE:20210327
DTEND;VALUE=DATE:20210328
TRANSP:TRANSPARENT
X-MICROSOFT-CDO-ALLDAYEVENT:TRUE
SUMMARY:Pig Out Saturdays at Lake Shore Harley-Davidson
DESCRIPTION:Pig Out Saturdays at Lake Shore Harley-Davidson!\n\nCheck out our HOGS and PIG out. Pulled pork sliders and beer starting at 12pm!\n\n*Please drink responsibly.\n\n______________________\n\nPlease be mindful of the current CDC recommendations and the guidelines listed below.\n\n1) Please stay home if you have any symptoms of COVID-19.\n\n2) Please wear masks.\n\n3) Please respect personal space and allow 6ft social distancing.\n\n4) Please wash your hands and use hand-sanitizer.
X-ALT-DESC;FMTTYPE=text/html:<div>Pig Out Saturdays at Lake Shore Harley-Davidson!</div>\n\n<div>Check out our HOGS and PIG out. Pulled pork sliders and beer starting at 12pm!</div>\n\n<div>*Please drink responsibly.<br />\n______________________<br />\nPlease be mindful of the current CDC recommendations and the guidelines listed below.<br />\n1) Please stay home if you have any symptoms of COVID-19.<br />\n2) Please wear masks.<br />\n3) Please respect personal space and allow 6ft social distancing.<br />\n4) Please wash your hands and use hand-sanitizer.&nbsp\;</div>\n
LOCATION:Lake Shore Harley-Davidson
UID:e.1126.19968
SEQUENCE:3
DTSTAMP:20260425T214753Z
URL:https://business.lflbchamber.com/events/details/pig-out-saturdays-at-lake-shore-harley-davidson-03-27-2021-19968
END:VEVENT

END:VCALENDAR
